BEGIN:VCALENDAR
VERSION:2.0
PRODID:-//Islamic Law Blog - ECPv6.7.0//NONSGML v1.0//EN
CALSCALE:GREGORIAN
METHOD:PUBLISH
X-WR-CALNAME:Islamic Law Blog
X-ORIGINAL-URL:https://islamiclaw.blog
X-WR-CALDESC:Events for Islamic Law Blog
REFRESH-INTERVAL;VALUE=DURATION:PT1H
X-Robots-Tag:noindex
X-PUBLISHED-TTL:PT1H
BEGIN:VTIMEZONE
TZID:America/New_York
BEGIN:DAYLIGHT
TZOFFSETFROM:-0500
TZOFFSETTO:-0400
TZNAME:EDT
DTSTART:20260308T070000
END:DAYLIGHT
BEGIN:STANDARD
TZOFFSETFROM:-0400
TZOFFSETTO:-0500
TZNAME:EST
DTSTART:20261101T060000
END:STANDARD
END:VTIMEZONE
BEGIN:VEVENT
DTSTART;TZID=America/New_York:20260323T181500
DTEND;TZID=America/New_York:20260323T193000
DTSTAMP:20260422T162505
CREATED:20260205T231658Z
LAST-MODIFIED:20260205T231658Z
UID:10013492-1774289700-1774294200@islamiclaw.blog
SUMMARY:Workshop: Middle East Beyond Borders—Cem Turkoz\, “An Edifice of Super-Glosses: The Making of an Ottoman Tradition of Natural Philosophy\, 1650–1800\,” March 23\, 2026 @ 6:15pm
DESCRIPTION:From the organizers: As part of the Association for Gulf and Arabian Peninsula Studies' (AGAPS) commitment to support graduate students\, we are pleased to open applications for this year’s graduate … Continue reading Award: Student Travel Award\, Association for Gulf and Arabian Peninsula Studies\, September 1\, 2026
URL:https://islamiclaw.blog/event/workshop-middle-east-beyond-borders-cem-turkoz-an-edifice-of-super-glosses-the-making-of-an-ottoman-tradition-of-natural-philosophy-1650-1800-march-23-2026-6/
CATEGORIES:conferences and workshops,Harvard Events
END:VEVENT
END:VCALENDAR