BEGIN:VCALENDAR
VERSION:2.0
PRODID:-//Islamic Law Blog - ECPv6.7.0//NONSGML v1.0//EN
CALSCALE:GREGORIAN
METHOD:PUBLISH
X-WR-CALNAME:Islamic Law Blog
X-ORIGINAL-URL:https://islamiclaw.blog
X-WR-CALDESC:Events for Islamic Law Blog
REFRESH-INTERVAL;VALUE=DURATION:PT1H
X-Robots-Tag:noindex
X-PUBLISHED-TTL:PT1H
BEGIN:VTIMEZONE
TZID:America/New_York
BEGIN:DAYLIGHT
TZOFFSETFROM:-0500
TZOFFSETTO:-0400
TZNAME:EDT
DTSTART:20170312T070000
END:DAYLIGHT
BEGIN:STANDARD
TZOFFSETFROM:-0400
TZOFFSETTO:-0500
TZNAME:EST
DTSTART:20171105T060000
END:STANDARD
END:VTIMEZONE
BEGIN:VEVENT
DTSTART;VALUE=DATE:20171113
DTEND;VALUE=DATE:20171114
DTSTAMP:20260419T102508
CREATED:20171030T161334Z
LAST-MODIFIED:20171030T161334Z
UID:10012017-1510531200-1510617599@islamiclaw.blog
SUMMARY:Postdoctoral positions in the University Center for Human Values\, Princeton University
DESCRIPTION:From the organizers: As part of the Association for Gulf and Arabian Peninsula Studies' (AGAPS) commitment to support graduate students\, we are pleased to open applications for this year’s graduate travel fund award. If you are an MA or PhD student working on the region and your paper is accepted to the 2026 MESA conference\, … Continue reading Award: Student Travel Award\, Association for Gulf and Arabian Peninsula Studies\, September 1\, 2026
URL:https://islamiclaw.blog/event/postdoctoral-positions-in-the-university-center-for-human-values-princeton-university/
LOCATION:Princeton University\, Princeton\, NJ
CATEGORIES:Applications,Due dates,Fellowships,Opportunities
END:VEVENT
BEGIN:VEVENT
DTSTART;VALUE=DATE:20171115
DTEND;VALUE=DATE:20171116
DTSTAMP:20260419T102508
CREATED:20170925T173017Z
LAST-MODIFIED:20170925T173017Z
UID:10011973-1510704000-1510790399@islamiclaw.blog
SUMMARY:Due: Tenured Position in Modern Iranian Studies\, Princeton University
DESCRIPTION:From the organizers: As part of the Association for Gulf and Arabian Peninsula Studies' (AGAPS) commitment to support graduate students\, we are pleased to open applications for this year’s graduate travel fund award. If you are an MA or PhD student working on the region and your paper is accepted to the 2026 MESA conference\, … Continue reading Award: Student Travel Award\, Association for Gulf and Arabian Peninsula Studies\, September 1\, 2026
URL:https://islamiclaw.blog/event/due-tenured-position-in-modern-iranian-studies-princeton-university/
LOCATION:Princeton University\, Princeton\, NJ
CATEGORIES:Due dates,Opportunities
END:VEVENT
END:VCALENDAR