BEGIN:VCALENDAR
VERSION:2.0
PRODID:-//Islamic Law Blog - ECPv6.7.0//NONSGML v1.0//EN
CALSCALE:GREGORIAN
METHOD:PUBLISH
X-ORIGINAL-URL:https://islamiclaw.blog
X-WR-CALDESC:Events for Islamic Law Blog
REFRESH-INTERVAL;VALUE=DURATION:PT1H
X-Robots-Tag:noindex
X-PUBLISHED-TTL:PT1H
BEGIN:VTIMEZONE
TZID:America/New_York
BEGIN:DAYLIGHT
TZOFFSETFROM:-0500
TZOFFSETTO:-0400
TZNAME:EDT
DTSTART:20190310T070000
END:DAYLIGHT
BEGIN:STANDARD
TZOFFSETFROM:-0400
TZOFFSETTO:-0500
TZNAME:EST
DTSTART:20191103T060000
END:STANDARD
END:VTIMEZONE
BEGIN:VEVENT
DTSTART;VALUE=DATE:20190603
DTEND;VALUE=DATE:20190604
DTSTAMP:20260420T125741
CREATED:20190519T220556Z
LAST-MODIFIED:20190519T220556Z
UID:10012563-1559520000-1559606399@islamiclaw.blog
SUMMARY:Alexander von Humboldt Final-Year Dissertation Fellowships in Islamic Intellectual History
DESCRIPTION:From the organizers: As part of the Association for Gulf and Arabian Peninsula Studies' (AGAPS) commitment to support graduate students\, we are pleased to open applications for this year’s graduate travel fund award. If you are an MA or PhD student working on the region and your paper is accepted to the 2026 MESA conference\, … Continue reading Award: Student Travel Award\, Association for Gulf and Arabian Peninsula Studies\, September 1\, 2026
URL:https://islamiclaw.blog/event/alexander-von-humboldt-final-year-dissertation-fellowships-in-islamic-intellectual-history/
LOCATION:University of Bonn\, Bonn\, Germany
CATEGORIES:Applications,Due dates,Fellowships,Opportunities
END:VEVENT
BEGIN:VEVENT
DTSTART;VALUE=DATE:20190603
DTEND;VALUE=DATE:20190604
DTSTAMP:20260420T125741
CREATED:20190522T214333Z
LAST-MODIFIED:20190522T214333Z
UID:10012597-1559520000-1559606399@islamiclaw.blog
SUMMARY:Call for Papers: Practices of Justice in a Multi-faith Context
DESCRIPTION:From the organizers: As part of the Association for Gulf and Arabian Peninsula Studies' (AGAPS) commitment to support graduate students\, we are pleased to open applications for this year’s graduate travel fund award. If you are an MA or PhD student working on the region and your paper is accepted to the 2026 MESA conference\, … Continue reading Award: Student Travel Award\, Association for Gulf and Arabian Peninsula Studies\, September 1\, 2026
URL:https://islamiclaw.blog/event/call-for-papers-practices-of-justice-in-a-multi-faith-context/
CATEGORIES:Call for papers,Due dates,Opportunities
END:VEVENT
END:VCALENDAR