BEGIN:VCALENDAR
VERSION:2.0
PRODID:-//Islamic Law Blog - ECPv6.7.0//NONSGML v1.0//EN
CALSCALE:GREGORIAN
METHOD:PUBLISH
X-ORIGINAL-URL:https://islamiclaw.blog
X-WR-CALDESC:Events for Islamic Law Blog
REFRESH-INTERVAL;VALUE=DURATION:PT1H
X-Robots-Tag:noindex
X-PUBLISHED-TTL:PT1H
BEGIN:VTIMEZONE
TZID:America/New_York
BEGIN:DAYLIGHT
TZOFFSETFROM:-0500
TZOFFSETTO:-0400
TZNAME:EDT
DTSTART:20190310T070000
END:DAYLIGHT
BEGIN:STANDARD
TZOFFSETFROM:-0400
TZOFFSETTO:-0500
TZNAME:EST
DTSTART:20191103T060000
END:STANDARD
END:VTIMEZONE
BEGIN:VEVENT
DTSTART;VALUE=DATE:20190614
DTEND;VALUE=DATE:20190615
DTSTAMP:20260422T234001
CREATED:20190522T222044Z
LAST-MODIFIED:20190522T222044Z
UID:10012601-1560470400-1560556799@islamiclaw.blog
SUMMARY:Cambridge Course: Introduction to Islamic Codicology
DESCRIPTION:From the organizers: As part of the Association for Gulf and Arabian Peninsula Studies' (AGAPS) commitment to support graduate students\, we are pleased to open applications for this year’s graduate travel fund award. If you are an MA or PhD student working on the region and your paper is accepted to the 2026 MESA conference\, … Continue reading Award: Student Travel Award\, Association for Gulf and Arabian Peninsula Studies\, September 1\, 2026
URL:https://islamiclaw.blog/event/cambridge-course-introduction-to-islamic-codicology/
LOCATION:University of Cambridge\, Cambridge\, United Kingdom
CATEGORIES:Applications,courses,Due dates,Opportunities
END:VEVENT
BEGIN:VEVENT
DTSTART;VALUE=DATE:20190614
DTEND;VALUE=DATE:20190615
DTSTAMP:20260422T234001
CREATED:20190522T222652Z
LAST-MODIFIED:20190522T222652Z
UID:10012603-1560470400-1560556799@islamiclaw.blog
SUMMARY:Call for Applications: University of Southern California: Postdoctoral Teaching Fellow\, Middle Eastern Studies
DESCRIPTION:From the organizers: As part of the Association for Gulf and Arabian Peninsula Studies' (AGAPS) commitment to support graduate students\, we are pleased to open applications for this year’s graduate travel fund award. If you are an MA or PhD student working on the region and your paper is accepted to the 2026 MESA conference\, … Continue reading Award: Student Travel Award\, Association for Gulf and Arabian Peninsula Studies\, September 1\, 2026
URL:https://islamiclaw.blog/event/call-for-applications-university-of-southern-california-postdoctoral-teaching-fellow-middle-eastern-studies/
CATEGORIES:Applications,Due dates,Fellowships,Opportunities
END:VEVENT
BEGIN:VEVENT
DTSTART;VALUE=DATE:20190615
DTEND;VALUE=DATE:20190616
DTSTAMP:20260422T234001
CREATED:20190519T221335Z
LAST-MODIFIED:20190519T221335Z
UID:10012565-1560556800-1560643199@islamiclaw.blog
SUMMARY:Call for Papers: Association for the Study of Persianate Societies Ninth Biennial Convention
DESCRIPTION:From the organizers: As part of the Association for Gulf and Arabian Peninsula Studies' (AGAPS) commitment to support graduate students\, we are pleased to open applications for this year’s graduate travel fund award. If you are an MA or PhD student working on the region and your paper is accepted to the 2026 MESA conference\, … Continue reading Award: Student Travel Award\, Association for Gulf and Arabian Peninsula Studies\, September 1\, 2026
URL:https://islamiclaw.blog/event/call-for-papers-association-for-the-study-of-persianate-societies-ninth-biennial-convention/
LOCATION:University of Chicago Center in Delhi\, New Delhi\, India
CATEGORIES:Call for papers,Due dates,Opportunities
END:VEVENT
BEGIN:VEVENT
DTSTART;VALUE=DATE:20190615
DTEND;VALUE=DATE:20190616
DTSTAMP:20260422T234001
CREATED:20190609T203533Z
LAST-MODIFIED:20190609T203533Z
UID:10012150-1560556800-1560643199@islamiclaw.blog
SUMMARY:Call of Applications:  Marie Skłodowska-Curie Action: Early Stage Researcher\, Mediating Islam in the Digital Age
DESCRIPTION:From the organizers: As part of the Association for Gulf and Arabian Peninsula Studies' (AGAPS) commitment to support graduate students\, we are pleased to open applications for this year’s graduate travel fund award. If you are an MA or PhD student working on the region and your paper is accepted to the 2026 MESA conference\, … Continue reading Award: Student Travel Award\, Association for Gulf and Arabian Peninsula Studies\, September 1\, 2026
URL:https://islamiclaw.blog/event/call-of-applications-marie-sklodowska-curie-action-early-stage-researcher-mediating-islam-in-the-digital-age/
CATEGORIES:Applications,digital humanities,Due dates,Fellowships,Opportunities
END:VEVENT
END:VCALENDAR