BEGIN:VCALENDAR
VERSION:2.0
PRODID:-//Islamic Law Blog - ECPv6.7.0//NONSGML v1.0//EN
CALSCALE:GREGORIAN
METHOD:PUBLISH
X-ORIGINAL-URL:https://islamiclaw.blog
X-WR-CALDESC:Events for Islamic Law Blog
REFRESH-INTERVAL;VALUE=DURATION:PT1H
X-Robots-Tag:noindex
X-PUBLISHED-TTL:PT1H
BEGIN:VTIMEZONE
TZID:America/New_York
BEGIN:DAYLIGHT
TZOFFSETFROM:-0500
TZOFFSETTO:-0400
TZNAME:EDT
DTSTART:20220313T070000
END:DAYLIGHT
BEGIN:STANDARD
TZOFFSETFROM:-0400
TZOFFSETTO:-0500
TZNAME:EST
DTSTART:20221106T060000
END:STANDARD
BEGIN:DAYLIGHT
TZOFFSETFROM:-0500
TZOFFSETTO:-0400
TZNAME:EDT
DTSTART:20230312T070000
END:DAYLIGHT
BEGIN:STANDARD
TZOFFSETFROM:-0400
TZOFFSETTO:-0500
TZNAME:EST
DTSTART:20231105T060000
END:STANDARD
BEGIN:DAYLIGHT
TZOFFSETFROM:-0500
TZOFFSETTO:-0400
TZNAME:EDT
DTSTART:20240310T070000
END:DAYLIGHT
BEGIN:STANDARD
TZOFFSETFROM:-0400
TZOFFSETTO:-0500
TZNAME:EST
DTSTART:20241103T060000
END:STANDARD
END:VTIMEZONE
BEGIN:VEVENT
DTSTART;TZID=America/New_York:20221101T090000
DTEND;TZID=America/New_York:20221101T120000
DTSTAMP:20260425T123810
CREATED:20221003T204408Z
LAST-MODIFIED:20221013T222913Z
UID:10012574-1667293200-1667304000@islamiclaw.blog
SUMMARY:Roundtable on the History of Islamic International Law
DESCRIPTION:On Tuesday\, October 8\, 2024\, at 12:30-1:30PM US EST via Zoom\, Professor Recep Senturk (Hamad Bin Khalifa University) will present Ādamiyyah: I am Therefore I have Rights (Usul Academy Press\, 2025). This … Continue reading ILSS: “Ādamiyyah: I am Therefore I have Rights” with Recep Senturk\, Program in Islamic Law
URL:https://islamiclaw.blog/event/roundtable-on-the-history-of-islamic-international-law-2/
CATEGORIES:Blog,PIL events
ATTACH;FMTTYPE=image/png:https://islamiclaw.blog/wp-content/uploads/2022/10/download-wHjGKa.tmp_-lH3b8t.tmp_-cNMG6R.tmp_.png
END:VEVENT
BEGIN:VEVENT
DTSTART;TZID=America/New_York:20221101T090000
DTEND;TZID=America/New_York:20221101T120000
DTSTAMP:20260425T123810
CREATED:20221004T204412Z
LAST-MODIFIED:20221013T222920Z
UID:10012576-1667293200-1667304000@islamiclaw.blog
SUMMARY:Roundtable on the History of Islamic International Law
DESCRIPTION:On Tuesday\, October 8\, 2024\, at 12:30-1:30PM US EST via Zoom\, Professor Recep Senturk (Hamad Bin Khalifa University) will present Ādamiyyah: I am Therefore I have Rights (Usul Academy Press\, 2025). This … Continue reading ILSS: “Ādamiyyah: I am Therefore I have Rights” with Recep Senturk\, Program in Islamic Law
URL:https://islamiclaw.blog/event/roundtable-on-the-history-of-islamic-international-law-3/
CATEGORIES:Blog,PIL events
ATTACH;FMTTYPE=image/jpeg:https://islamiclaw.blog/wp-content/uploads/2022/10/BattleOfHoms1299-NSILp5.tmp_-KZoe6L.tmp_-6ROG0Y.tmp_-cvWR3K.tmp_-QzqU7J.tmp_.jpg
END:VEVENT
BEGIN:VEVENT
DTSTART;TZID=America/New_York:20221101T090000
DTEND;TZID=America/New_York:20221101T120000
DTSTAMP:20260425T123810
CREATED:20221005T204415Z
LAST-MODIFIED:20221013T222920Z
UID:10012577-1667293200-1667304000@islamiclaw.blog
SUMMARY:Roundtable on the History of Islamic International Law
DESCRIPTION:On Tuesday\, October 8\, 2024\, at 12:30-1:30PM US EST via Zoom\, Professor Recep Senturk (Hamad Bin Khalifa University) will present Ādamiyyah: I am Therefore I have Rights (Usul Academy Press\, 2025). This … Continue reading ILSS: “Ādamiyyah: I am Therefore I have Rights” with Recep Senturk\, Program in Islamic Law
URL:https://islamiclaw.blog/event/roundtable-on-the-history-of-islamic-international-law-4/
CATEGORIES:Blog,PIL events
ATTACH;FMTTYPE=image/jpeg:https://islamiclaw.blog/wp-content/uploads/2022/10/BattleOfHoms1299-NSILp5.tmp_-KZoe6L.tmp_-6ROG0Y.tmp_-cvWR3K.tmp_-QzqU7J.tmp_-HArCXz.tmp_-RfApPK.tmp_.jpg
END:VEVENT
BEGIN:VEVENT
DTSTART;TZID=America/New_York:20221101T090000
DTEND;TZID=America/New_York:20221101T120000
DTSTAMP:20260425T123810
CREATED:20221006T210006Z
LAST-MODIFIED:20221013T222920Z
UID:10012579-1667293200-1667304000@islamiclaw.blog
SUMMARY:Roundtable on the History of Islamic International Law
DESCRIPTION:On Tuesday\, October 8\, 2024\, at 12:30-1:30PM US EST via Zoom\, Professor Recep Senturk (Hamad Bin Khalifa University) will present Ādamiyyah: I am Therefore I have Rights (Usul Academy Press\, 2025). This … Continue reading ILSS: “Ādamiyyah: I am Therefore I have Rights” with Recep Senturk\, Program in Islamic Law
URL:https://islamiclaw.blog/event/roundtable-on-the-history-of-islamic-international-law-5/
CATEGORIES:Blog,PIL events
ATTACH;FMTTYPE=image/jpeg:https://islamiclaw.blog/wp-content/uploads/2022/10/BattleOfHoms1299-NSILp5.tmp_-KZoe6L.tmp_-6ROG0Y.tmp_-cvWR3K.tmp_-QzqU7J.tmp_-HArCXz.tmp_-RfApPK.tmp_-ELRUbE.tmp_-7B5gWU.tmp_.jpg
END:VEVENT
BEGIN:VEVENT
DTSTART;TZID=America/New_York:20221101T090000
DTEND;TZID=America/New_York:20221101T120000
DTSTAMP:20260425T123810
CREATED:20221007T211404Z
LAST-MODIFIED:20221013T222920Z
UID:10013080-1667293200-1667304000@islamiclaw.blog
SUMMARY:Roundtable on the History of Islamic International Law
DESCRIPTION:On Tuesday\, October 8\, 2024\, at 12:30-1:30PM US EST via Zoom\, Professor Recep Senturk (Hamad Bin Khalifa University) will present Ādamiyyah: I am Therefore I have Rights (Usul Academy Press\, 2025). This … Continue reading ILSS: “Ādamiyyah: I am Therefore I have Rights” with Recep Senturk\, Program in Islamic Law
URL:https://islamiclaw.blog/event/roundtable-on-the-history-of-islamic-international-law-6/
CATEGORIES:Blog,PIL events
ATTACH;FMTTYPE=image/jpeg:https://islamiclaw.blog/wp-content/uploads/2022/10/BattleOfHoms1299-NSILp5.tmp_-KZoe6L.tmp_-6ROG0Y.tmp_-cvWR3K.tmp_-QzqU7J.tmp_-HArCXz.tmp_-RfApPK.tmp_-ELRUbE.tmp_-7B5gWU.tmp_-nhRAL4.tmp_-wTjTTN.tmp_.jpg
END:VEVENT
BEGIN:VEVENT
DTSTART;TZID=America/New_York:20221101T090000
DTEND;TZID=America/New_York:20221101T120000
DTSTAMP:20260425T123810
CREATED:20221008T214401Z
LAST-MODIFIED:20221013T222920Z
UID:10013081-1667293200-1667304000@islamiclaw.blog
SUMMARY:Roundtable on the History of Islamic International Law
DESCRIPTION:On Tuesday\, October 8\, 2024\, at 12:30-1:30PM US EST via Zoom\, Professor Recep Senturk (Hamad Bin Khalifa University) will present Ādamiyyah: I am Therefore I have Rights (Usul Academy Press\, 2025). This … Continue reading ILSS: “Ādamiyyah: I am Therefore I have Rights” with Recep Senturk\, Program in Islamic Law
URL:https://islamiclaw.blog/event/roundtable-on-the-history-of-islamic-international-law-7/
CATEGORIES:Blog,PIL events
ATTACH;FMTTYPE=image/jpeg:https://islamiclaw.blog/wp-content/uploads/2022/10/BattleOfHoms1299-NSILp5.tmp_-KZoe6L.tmp_-6ROG0Y.tmp_-cvWR3K.tmp_-QzqU7J.tmp_-HArCXz.tmp_-RfApPK.tmp_-ELRUbE.tmp_-7B5gWU.tmp_-nhRAL4.tmp_-wTjTTN.tmp_-0KWzw7.tmp_-Qaft0K.tmp_.jpg
END:VEVENT
BEGIN:VEVENT
DTSTART;TZID=America/New_York:20221101T090000
DTEND;TZID=America/New_York:20221101T120000
DTSTAMP:20260425T123810
CREATED:20221009T221404Z
LAST-MODIFIED:20221013T222920Z
UID:10013082-1667293200-1667304000@islamiclaw.blog
SUMMARY:Roundtable on the History of Islamic International Law
DESCRIPTION:On Tuesday\, October 8\, 2024\, at 12:30-1:30PM US EST via Zoom\, Professor Recep Senturk (Hamad Bin Khalifa University) will present Ādamiyyah: I am Therefore I have Rights (Usul Academy Press\, 2025). This … Continue reading ILSS: “Ādamiyyah: I am Therefore I have Rights” with Recep Senturk\, Program in Islamic Law
URL:https://islamiclaw.blog/event/roundtable-on-the-history-of-islamic-international-law-8/
CATEGORIES:Blog,PIL events
ATTACH;FMTTYPE=image/jpeg:https://islamiclaw.blog/wp-content/uploads/2022/10/BattleOfHoms1299-NSILp5.tmp_-KZoe6L.tmp_-6ROG0Y.tmp_-cvWR3K.tmp_-QzqU7J.tmp_-HArCXz.tmp_-RfApPK.tmp_-ELRUbE.tmp_-7B5gWU.tmp_-nhRAL4.tmp_-wTjTTN.tmp_-0KWzw7.tmp_-Qaft0K.tmp_-ixNGoi.tmp_-ZBu2rm.tmp_.jpg
END:VEVENT
BEGIN:VEVENT
DTSTART;TZID=America/New_York:20221101T090000
DTEND;TZID=America/New_York:20221101T120000
DTSTAMP:20260425T123810
CREATED:20221010T221408Z
LAST-MODIFIED:20221013T222920Z
UID:10013083-1667293200-1667304000@islamiclaw.blog
SUMMARY:Roundtable on the History of Islamic International Law
DESCRIPTION:On Tuesday\, October 8\, 2024\, at 12:30-1:30PM US EST via Zoom\, Professor Recep Senturk (Hamad Bin Khalifa University) will present Ādamiyyah: I am Therefore I have Rights (Usul Academy Press\, 2025). This … Continue reading ILSS: “Ādamiyyah: I am Therefore I have Rights” with Recep Senturk\, Program in Islamic Law
URL:https://islamiclaw.blog/event/roundtable-on-the-history-of-islamic-international-law-9/
CATEGORIES:Blog,PIL events
END:VEVENT
BEGIN:VEVENT
DTSTART;TZID=America/New_York:20221101T090000
DTEND;TZID=America/New_York:20221101T120000
DTSTAMP:20260425T123810
CREATED:20221011T221432Z
LAST-MODIFIED:20221013T222920Z
UID:10013084-1667293200-1667304000@islamiclaw.blog
SUMMARY:Roundtable on the History of Islamic International Law
DESCRIPTION:On Tuesday\, October 8\, 2024\, at 12:30-1:30PM US EST via Zoom\, Professor Recep Senturk (Hamad Bin Khalifa University) will present Ādamiyyah: I am Therefore I have Rights (Usul Academy Press\, 2025). This … Continue reading ILSS: “Ādamiyyah: I am Therefore I have Rights” with Recep Senturk\, Program in Islamic Law
URL:https://islamiclaw.blog/event/roundtable-on-the-history-of-islamic-international-law-10/
CATEGORIES:Blog,PIL events
END:VEVENT
BEGIN:VEVENT
DTSTART;TZID=America/New_York:20221101T090000
DTEND;TZID=America/New_York:20221101T120000
DTSTAMP:20260425T123810
CREATED:20221012T221434Z
LAST-MODIFIED:20221013T222937Z
UID:10013089-1667293200-1667304000@islamiclaw.blog
SUMMARY:Roundtable on the History of Islamic International Law
DESCRIPTION:On Tuesday\, October 8\, 2024\, at 12:30-1:30PM US EST via Zoom\, Professor Recep Senturk (Hamad Bin Khalifa University) will present Ādamiyyah: I am Therefore I have Rights (Usul Academy Press\, 2025). This … Continue reading ILSS: “Ādamiyyah: I am Therefore I have Rights” with Recep Senturk\, Program in Islamic Law
URL:https://islamiclaw.blog/event/roundtable-on-the-history-of-islamic-international-law-11/
CATEGORIES:Blog,PIL events
END:VEVENT
BEGIN:VEVENT
DTSTART;TZID=America/New_York:20221101T090000
DTEND;TZID=America/New_York:20221101T120000
DTSTAMP:20260425T123810
CREATED:20221013T222937Z
LAST-MODIFIED:20221013T222937Z
UID:10012580-1667293200-1667304000@islamiclaw.blog
SUMMARY:Roundtable on the History of Islamic International Law
DESCRIPTION:On Tuesday\, October 8\, 2024\, at 12:30-1:30PM US EST via Zoom\, Professor Recep Senturk (Hamad Bin Khalifa University) will present Ādamiyyah: I am Therefore I have Rights (Usul Academy Press\, 2025). This … Continue reading ILSS: “Ādamiyyah: I am Therefore I have Rights” with Recep Senturk\, Program in Islamic Law
URL:https://islamiclaw.blog/event/roundtable-on-the-history-of-islamic-international-law-12/
CATEGORIES:Blog,PIL events
END:VEVENT
BEGIN:VEVENT
DTSTART;VALUE=DATE:20221118
DTEND;VALUE=DATE:20221119
DTSTAMP:20260425T123810
CREATED:20221113T163949Z
LAST-MODIFIED:20221113T164812Z
UID:10013093-1668729600-1668815999@islamiclaw.blog
SUMMARY:Call for Submissions: Special Issue of the Journal of Islamic Law\, November 18\, 2022
DESCRIPTION:On Tuesday\, October 8\, 2024\, at 12:30-1:30PM US EST via Zoom\, Professor Recep Senturk (Hamad Bin Khalifa University) will present Ādamiyyah: I am Therefore I have Rights (Usul Academy Press\, 2025). This … Continue reading ILSS: “Ādamiyyah: I am Therefore I have Rights” with Recep Senturk\, Program in Islamic Law
URL:https://islamiclaw.blog/event/call-for-submissions-special-issue-of-the-journal-of-islamic-law-november-18-2022/
CATEGORIES:Opportunities,PIL events,SHARIAsource events
ATTACH;FMTTYPE=image/png:https://islamiclaw.blog/wp-content/uploads/2022/11/Ffm9kBIXoAA91Hg.png
END:VEVENT
BEGIN:VEVENT
DTSTART;TZID=America/New_York:20230303T110000
DTEND;TZID=America/New_York:20230303T130000
DTSTAMP:20260425T123810
CREATED:20230302T004956Z
LAST-MODIFIED:20230302T004956Z
UID:10013130-1677841200-1677848400@islamiclaw.blog
SUMMARY:Islam in Africa Initiative: Umar Tahir\, Swartz Hall\, Garvin Room\, Harvard University\, March 3\, 2023 @ 11:00 AM - 1:00 PM
DESCRIPTION:On Tuesday\, October 8\, 2024\, at 12:30-1:30PM US EST via Zoom\, Professor Recep Senturk (Hamad Bin Khalifa University) will present Ādamiyyah: I am Therefore I have Rights (Usul Academy Press\, 2025). This … Continue reading ILSS: “Ādamiyyah: I am Therefore I have Rights” with Recep Senturk\, Program in Islamic Law
URL:https://islamiclaw.blog/event/islam-in-africa-initiative-umar-tahir-swartz-hall-garvin-room-harvard-university-march-3-2023-1100-am-100-pm/
CATEGORIES:Harvard Events,lectures and talks,PIL events
END:VEVENT
BEGIN:VEVENT
DTSTART;TZID=America/New_York:20230321T120000
DTEND;TZID=America/New_York:20230321T130000
DTSTAMP:20260425T123810
CREATED:20230207T121445Z
LAST-MODIFIED:20230313T154622Z
UID:10013124-1679400000-1679403600@islamiclaw.blog
SUMMARY:Islamic Law Speaker Series :: Haroun Rahimi (The American University of Afghanistan)\, “Taliban and Modernity\," Harvard Law School\, March 21\, 2023 @ 12:00 - 1:00 p.m.
DESCRIPTION:On Tuesday\, October 8\, 2024\, at 12:30-1:30PM US EST via Zoom\, Professor Recep Senturk (Hamad Bin Khalifa University) will present Ādamiyyah: I am Therefore I have Rights (Usul Academy Press\, 2025). This … Continue reading ILSS: “Ādamiyyah: I am Therefore I have Rights” with Recep Senturk\, Program in Islamic Law
URL:https://islamiclaw.blog/event/islamic-law-speaker-series-haroun-rahimi-the-american-university-of-afghanistan-taliban-and-modernity-harvard-law-school-march-14-2023-1200-100-p-m/
CATEGORIES:conferences and workshops,Harvard Events,lectures and talks,PIL events
END:VEVENT
BEGIN:VEVENT
DTSTART;TZID=America/New_York:20230331T110000
DTEND;TZID=America/New_York:20230331T130000
DTSTAMP:20260425T123810
CREATED:20230302T010129Z
LAST-MODIFIED:20230302T010129Z
UID:10013133-1680260400-1680267600@islamiclaw.blog
SUMMARY:Islam in Africa Initiative: Cheikh Anta Mbacke Babou\, Swartz Hall\, Garvin Room\, Harvard University\, March 31\, 2023 @ 11:00 AM – 1:00 PM
DESCRIPTION:On Tuesday\, October 8\, 2024\, at 12:30-1:30PM US EST via Zoom\, Professor Recep Senturk (Hamad Bin Khalifa University) will present Ādamiyyah: I am Therefore I have Rights (Usul Academy Press\, 2025). This … Continue reading ILSS: “Ādamiyyah: I am Therefore I have Rights” with Recep Senturk\, Program in Islamic Law
URL:https://islamiclaw.blog/event/islam-in-africa-initiative-cheikh-anta-mbacke-babou-swartz-hall-garvin-room-harvard-university-march-31-2023-1100-am-100-pm/
CATEGORIES:Harvard Events,lectures and talks,PIL events
END:VEVENT
BEGIN:VEVENT
DTSTART;TZID=America/New_York:20230404T120000
DTEND;TZID=America/New_York:20230404T130000
DTSTAMP:20260425T123810
CREATED:20230207T121611Z
LAST-MODIFIED:20230323T131623Z
UID:10012615-1680609600-1680613200@islamiclaw.blog
SUMMARY:Islamic Law Speaker Series :: Elizabeth Lhost (University of Wisconsin–Madison)\, Everyday Islamic Law and the Making of Modern South Asia\, Harvard Law School\, April 4\, 2023 @ 12:00 - 1:00 p.m.
DESCRIPTION:On Tuesday\, October 8\, 2024\, at 12:30-1:30PM US EST via Zoom\, Professor Recep Senturk (Hamad Bin Khalifa University) will present Ādamiyyah: I am Therefore I have Rights (Usul Academy Press\, 2025). This … Continue reading ILSS: “Ādamiyyah: I am Therefore I have Rights” with Recep Senturk\, Program in Islamic Law
URL:https://islamiclaw.blog/event/islamic-law-speaker-series-elizabeth-lhost-university-of-wisconsin-madison-everyday-islamic-law-and-the-making-of-modern-south-asia-harvard-law-school-april-4-2023-1200-100-p-m/
CATEGORIES:conferences and workshops,events in Islamic legal studies,Harvard Events,lectures and talks,PIL events
END:VEVENT
BEGIN:VEVENT
DTSTART;TZID=America/New_York:20230407T110000
DTEND;TZID=America/New_York:20230407T130000
DTSTAMP:20260425T123810
CREATED:20230302T010311Z
LAST-MODIFIED:20230302T010311Z
UID:10013134-1680865200-1680872400@islamiclaw.blog
SUMMARY:Islam in Africa Initiative: Caitlyn Bolton\, Swartz Hall\, Garvin Room\, Harvard University\, April 7\, 2023 @ 11:00 AM – 1:00 PM
DESCRIPTION:On Tuesday\, October 8\, 2024\, at 12:30-1:30PM US EST via Zoom\, Professor Recep Senturk (Hamad Bin Khalifa University) will present Ādamiyyah: I am Therefore I have Rights (Usul Academy Press\, 2025). This … Continue reading ILSS: “Ādamiyyah: I am Therefore I have Rights” with Recep Senturk\, Program in Islamic Law
URL:https://islamiclaw.blog/event/islam-in-africa-initiative-caitlyn-bolton-swartz-hall-garvin-room-harvard-university-april-7-2023-1100-am-100-pm/
CATEGORIES:Harvard Events,lectures and talks,PIL events
END:VEVENT
BEGIN:VEVENT
DTSTART;TZID=America/New_York:20230414T110000
DTEND;TZID=America/New_York:20230414T130000
DTSTAMP:20260425T123810
CREATED:20230302T010445Z
LAST-MODIFIED:20230302T010445Z
UID:10012625-1681470000-1681477200@islamiclaw.blog
SUMMARY:Islam in Africa Initiative: Ayodeji Ogunnaike\, Swartz Hall\, Garvin Room\, Harvard University\, April 14\, 2023 @ 11:00 AM – 1:00 PM
DESCRIPTION:On Tuesday\, October 8\, 2024\, at 12:30-1:30PM US EST via Zoom\, Professor Recep Senturk (Hamad Bin Khalifa University) will present Ādamiyyah: I am Therefore I have Rights (Usul Academy Press\, 2025). This … Continue reading ILSS: “Ādamiyyah: I am Therefore I have Rights” with Recep Senturk\, Program in Islamic Law
URL:https://islamiclaw.blog/event/islam-in-africa-initiative-ayodeji-ogunnaike-swartz-hall-garvin-room-harvard-university-april-14-2023-1100-am-100-pm/
CATEGORIES:Harvard Events,lectures and talks,PIL events
END:VEVENT
BEGIN:VEVENT
DTSTART;TZID=America/New_York:20230421T110000
DTEND;TZID=America/New_York:20230421T130000
DTSTAMP:20260425T123810
CREATED:20230302T010556Z
LAST-MODIFIED:20230302T010556Z
UID:10012626-1682074800-1682082000@islamiclaw.blog
SUMMARY:Islam in Africa Initiative: Zekeria Salem\, Swartz Hall\, Garvin Room\, Harvard University\, April 21\, 2023 @ 11:00 AM – 1:00 PM
DESCRIPTION:On Tuesday\, October 8\, 2024\, at 12:30-1:30PM US EST via Zoom\, Professor Recep Senturk (Hamad Bin Khalifa University) will present Ādamiyyah: I am Therefore I have Rights (Usul Academy Press\, 2025). This … Continue reading ILSS: “Ādamiyyah: I am Therefore I have Rights” with Recep Senturk\, Program in Islamic Law
URL:https://islamiclaw.blog/event/islam-in-africa-initiative-zekeria-salem-swartz-hall-garvin-room-harvard-university-april-21-2023-1100-am-100-pm/
CATEGORIES:Harvard Events,lectures and talks,PIL events
END:VEVENT
BEGIN:VEVENT
DTSTART;TZID=America/New_York:20230502T120000
DTEND;TZID=America/New_York:20230502T130000
DTSTAMP:20260425T123810
CREATED:20230207T121808Z
LAST-MODIFIED:20230207T121808Z
UID:10012616-1683028800-1683032400@islamiclaw.blog
SUMMARY:Islamic Law Speaker Series :: Dilyara Agisheva (Harvard Law School)\, "The Entangled Legal Formations and the Russian annexation of Crimea in the 18th century\," Harvard Law School\, May 2\, 2023 @ 12:00 - 1:00 p.m.
DESCRIPTION:On Tuesday\, October 8\, 2024\, at 12:30-1:30PM US EST via Zoom\, Professor Recep Senturk (Hamad Bin Khalifa University) will present Ādamiyyah: I am Therefore I have Rights (Usul Academy Press\, 2025). This … Continue reading ILSS: “Ādamiyyah: I am Therefore I have Rights” with Recep Senturk\, Program in Islamic Law
URL:https://islamiclaw.blog/event/islamic-law-speaker-series-dilyara-agisheva-harvard-law-school-the-entangled-legal-formations-and-the-russian-annexation-of-crimea-in-the-18th-century-harvard-law-school-may-2-2023-120/
CATEGORIES:conferences and workshops,events in Islamic legal studies,Harvard Events,lectures and talks,PIL events
END:VEVENT
BEGIN:VEVENT
DTSTART;VALUE=DATE:20230519
DTEND;VALUE=DATE:20230520
DTSTAMP:20260425T123810
CREATED:20230505T022458Z
LAST-MODIFIED:20230505T022458Z
UID:10013158-1684454400-1684540799@islamiclaw.blog
SUMMARY:Position opening: Managing Editor\, Program in Islamic Law at Harvard Law School\, May 19\, 2023
DESCRIPTION:On Tuesday\, October 8\, 2024\, at 12:30-1:30PM US EST via Zoom\, Professor Recep Senturk (Hamad Bin Khalifa University) will present Ādamiyyah: I am Therefore I have Rights (Usul Academy Press\, 2025). This … Continue reading ILSS: “Ādamiyyah: I am Therefore I have Rights” with Recep Senturk\, Program in Islamic Law
URL:https://islamiclaw.blog/event/position-opening-managing-editor-program-in-islamic-law-at-harvard-law-school-may-19-2023/
CATEGORIES:Applications,Due dates,Opportunities,PIL events,prizes and nominations,Programs
END:VEVENT
BEGIN:VEVENT
DTSTART;VALUE=DATE:20230824
DTEND;VALUE=DATE:20230825
DTSTAMP:20260425T123810
CREATED:20230811T221957Z
LAST-MODIFIED:20230811T221957Z
UID:10013176-1692835200-1692921599@islamiclaw.blog
SUMMARY:Call for Applications: Lab Manager\, Program in Islamic Law\, Harvard Law School\, August 24\, 2023
DESCRIPTION:On Tuesday\, October 8\, 2024\, at 12:30-1:30PM US EST via Zoom\, Professor Recep Senturk (Hamad Bin Khalifa University) will present Ādamiyyah: I am Therefore I have Rights (Usul Academy Press\, 2025). This … Continue reading ILSS: “Ādamiyyah: I am Therefore I have Rights” with Recep Senturk\, Program in Islamic Law
URL:https://islamiclaw.blog/event/call-for-applications-lab-manager-program-in-islamic-law-harvard-law-school-august-24-2023/
CATEGORIES:Applications,Due dates,Opportunities,PIL events
END:VEVENT
BEGIN:VEVENT
DTSTART;TZID=America/New_York:20230926T121500
DTEND;TZID=America/New_York:20230926T131500
DTSTAMP:20260425T123810
CREATED:20230928T160325Z
LAST-MODIFIED:20230928T160325Z
UID:10013200-1695730500-1695734100@islamiclaw.blog
SUMMARY:Discussion with Prof. Intisar Rabb and Justice Syed Mansoor Ali Shah of the Supreme Court of Pakistan\, Harvard Law School\, September 26\, 2023
DESCRIPTION:On Tuesday\, October 8\, 2024\, at 12:30-1:30PM US EST via Zoom\, Professor Recep Senturk (Hamad Bin Khalifa University) will present Ādamiyyah: I am Therefore I have Rights (Usul Academy Press\, 2025). This … Continue reading ILSS: “Ādamiyyah: I am Therefore I have Rights” with Recep Senturk\, Program in Islamic Law
URL:https://islamiclaw.blog/event/discussion-with-prof-intisar-rabb-and-justice-syed-mansoor-ali-shah-of-the-supreme-court-of-pakistan-harvard-law-school-september-26-2023/
CATEGORIES:events in Islamic legal studies,lectures and talks,PIL events
END:VEVENT
BEGIN:VEVENT
DTSTART;TZID=America/New_York:20231127T120000
DTEND;TZID=America/New_York:20231127T133000
DTSTAMP:20260425T123810
CREATED:20231121T173806Z
LAST-MODIFIED:20231121T173806Z
UID:10013226-1701086400-1701091800@islamiclaw.blog
SUMMARY:Talk: "Three Strikes and She’s Out: The Origins and Expansion of a Divorce and Remarriage Stipulation in Q 2:230" by Lyall Armstrong\, Alwaleed Bin Talal Director's Series\, Harvard Law School\, Lewis 214\, November 27\, 2023 @ 12:00 - 1:30 p.m.
DESCRIPTION:On Tuesday\, October 8\, 2024\, at 12:30-1:30PM US EST via Zoom\, Professor Recep Senturk (Hamad Bin Khalifa University) will present Ādamiyyah: I am Therefore I have Rights (Usul Academy Press\, 2025). This … Continue reading ILSS: “Ādamiyyah: I am Therefore I have Rights” with Recep Senturk\, Program in Islamic Law
URL:https://islamiclaw.blog/event/talk-three-strikes-and-shes-out-the-origins-and-expansion-of-a-divorce-and-remarriage-stipulation-in-q-2230-by-lyall-armstrong-alwaleed-bin-talal-directors-series-harvard-law-schoo/
CATEGORIES:Harvard Events,lectures and talks,PIL events
ATTACH;FMTTYPE=application/pdf:https://islamiclaw.blog/wp-content/uploads/2023/11/HUIS_Lyall-Armstrong_Pstr_r2.pdf
END:VEVENT
BEGIN:VEVENT
DTSTART;TZID=America/New_York:20240213T123000
DTEND;TZID=America/New_York:20240213T133000
DTSTAMP:20260425T123810
CREATED:20240125T151455Z
LAST-MODIFIED:20240126T152946Z
UID:10013246-1707827400-1707831000@islamiclaw.blog
SUMMARY:Islamic Law Speaker Series: "Creating a new Criminal Law: The Military-Administrative origins of Siyasa" with Mohammed Allehbi\, Program in Islamic Law\, February 13\, 2024 @ 12:30 - 1:30 pm
DESCRIPTION:On Tuesday\, October 8\, 2024\, at 12:30-1:30PM US EST via Zoom\, Professor Recep Senturk (Hamad Bin Khalifa University) will present Ādamiyyah: I am Therefore I have Rights (Usul Academy Press\, 2025). This … Continue reading ILSS: “Ādamiyyah: I am Therefore I have Rights” with Recep Senturk\, Program in Islamic Law
URL:https://islamiclaw.blog/event/islamic-law-speaker-series-creating-a-new-criminal-law-the-military-administrative-origins-of-siyasa-withmohammed-allehbi-program-in-islamic-law-february-13-2024-1230-130-pm/
CATEGORIES:conferences and workshops,Harvard Events,lectures and talks,PIL events
END:VEVENT
BEGIN:VEVENT
DTSTART;VALUE=DATE:20240215
DTEND;VALUE=DATE:20240216
DTSTAMP:20260425T123810
CREATED:20240130T024608Z
LAST-MODIFIED:20240130T024608Z
UID:10013252-1707955200-1708041599@islamiclaw.blog
SUMMARY:PIL–LC Research Fellowship Application\, 2024-2025\, February 15\, 2024
DESCRIPTION:On Tuesday\, October 8\, 2024\, at 12:30-1:30PM US EST via Zoom\, Professor Recep Senturk (Hamad Bin Khalifa University) will present Ādamiyyah: I am Therefore I have Rights (Usul Academy Press\, 2025). This … Continue reading ILSS: “Ādamiyyah: I am Therefore I have Rights” with Recep Senturk\, Program in Islamic Law
URL:https://islamiclaw.blog/event/pil-lc-research-fellowship-application-2024-2025-february-15-2024/
CATEGORIES:Applications,Blog,Due dates,Fellowships,Harvard Events,Opportunities,PIL events
END:VEVENT
BEGIN:VEVENT
DTSTART;TZID=America/New_York:20240221T123000
DTEND;TZID=America/New_York:20240221T133000
DTSTAMP:20260425T123810
CREATED:20240125T151225Z
LAST-MODIFIED:20240126T153027Z
UID:10013245-1708518600-1708522200@islamiclaw.blog
SUMMARY:Roundtable: Islamic Land Law\, Program in Islamic Law\, Harvard Law School\, February 21\, 2024 @ 12:30 - 1:30 pm
DESCRIPTION:On Tuesday\, October 8\, 2024\, at 12:30-1:30PM US EST via Zoom\, Professor Recep Senturk (Hamad Bin Khalifa University) will present Ādamiyyah: I am Therefore I have Rights (Usul Academy Press\, 2025). This … Continue reading ILSS: “Ādamiyyah: I am Therefore I have Rights” with Recep Senturk\, Program in Islamic Law
URL:https://islamiclaw.blog/event/roundtable-islamic-land-law-program-in-islamic-law-harvard-law-school-february-21-2024-1230-130-pm/
CATEGORIES:Blog,conferences and workshops,events in Islamic legal studies,Harvard Events,lectures and talks,PIL events
END:VEVENT
BEGIN:VEVENT
DTSTART;TZID=America/New_York:20240302T120000
DTEND;TZID=America/New_York:20240302T160000
DTSTAMP:20260425T123810
CREATED:20240125T152803Z
LAST-MODIFIED:20240125T152803Z
UID:10013250-1709380800-1709395200@islamiclaw.blog
SUMMARY:SHARIAsource Lab :: Hackathon: Arabic OCR Community Scribes\, Program in Islamic Law\, March 2\, 2024 @ 12:00 - 4:00 pm
DESCRIPTION:On Tuesday\, October 8\, 2024\, at 12:30-1:30PM US EST via Zoom\, Professor Recep Senturk (Hamad Bin Khalifa University) will present Ādamiyyah: I am Therefore I have Rights (Usul Academy Press\, 2025). This … Continue reading ILSS: “Ādamiyyah: I am Therefore I have Rights” with Recep Senturk\, Program in Islamic Law
URL:https://islamiclaw.blog/event/shariasource-lab-hackathon-arabic-ocr-community-scribes-program-in-islamic-law-march-2-2024-1200-400-pm/
CATEGORIES:conferences and workshops,digital humanities,Harvard Events,lectures and talks,PIL events,SHARIAsource events,tech
END:VEVENT
BEGIN:VEVENT
DTSTART;TZID=America/New_York:20240304T123000
DTEND;TZID=America/New_York:20240304T140000
DTSTAMP:20260425T123810
CREATED:20240226T152137Z
LAST-MODIFIED:20240226T152137Z
UID:10013275-1709555400-1709560800@islamiclaw.blog
SUMMARY:Roundtable on Transformation and Adaptation of Ottoman Land Law in 19th-Century Successor States\, March 4\, 2024
DESCRIPTION:On Tuesday\, October 8\, 2024\, at 12:30-1:30PM US EST via Zoom\, Professor Recep Senturk (Hamad Bin Khalifa University) will present Ādamiyyah: I am Therefore I have Rights (Usul Academy Press\, 2025). This … Continue reading ILSS: “Ādamiyyah: I am Therefore I have Rights” with Recep Senturk\, Program in Islamic Law
URL:https://islamiclaw.blog/event/roundtable-on-transformation-and-adaptation-of-ottoman-land-law-in-19th-century-successor-states-march-4-2024/
CATEGORIES:Blog,conferences and workshops,Due dates,Harvard Events,Opportunities,PIL events,Programs
END:VEVENT
BEGIN:VEVENT
DTSTART;TZID=America/New_York:20240305T123000
DTEND;TZID=America/New_York:20240305T133000
DTSTAMP:20260425T123810
CREATED:20240125T151814Z
LAST-MODIFIED:20240126T153056Z
UID:10013247-1709641800-1709645400@islamiclaw.blog
SUMMARY:Islamic Law Speaker Series: "The Rise of Critical Islam: 10th-13th Century Legal Debate" with Youcef L. Soufi\, Program in Islamic Law\, March 5\, 2024 @ 12:30 - 1:30 pm
DESCRIPTION:On Tuesday\, October 8\, 2024\, at 12:30-1:30PM US EST via Zoom\, Professor Recep Senturk (Hamad Bin Khalifa University) will present Ādamiyyah: I am Therefore I have Rights (Usul Academy Press\, 2025). This … Continue reading ILSS: “Ādamiyyah: I am Therefore I have Rights” with Recep Senturk\, Program in Islamic Law
URL:https://islamiclaw.blog/event/islamic-law-speaker-series-the-rise-of-critical-islam-10th-13th-century-legal-debate-with-youcef-l-soufi-march-5-2024-1230-130-pm/
CATEGORIES:conferences and workshops,Harvard Events,lectures and talks,PIL events
END:VEVENT
END:VCALENDAR