BEGIN:VCALENDAR
VERSION:2.0
PRODID:-//Islamic Law Blog - ECPv6.7.0//NONSGML v1.0//EN
CALSCALE:GREGORIAN
METHOD:PUBLISH
X-WR-CALNAME:Islamic Law Blog
X-ORIGINAL-URL:https://islamiclaw.blog
X-WR-CALDESC:Events for Islamic Law Blog
REFRESH-INTERVAL;VALUE=DURATION:PT1H
X-Robots-Tag:noindex
X-PUBLISHED-TTL:PT1H
BEGIN:VTIMEZONE
TZID:America/New_York
BEGIN:DAYLIGHT
TZOFFSETFROM:-0500
TZOFFSETTO:-0400
TZNAME:EDT
DTSTART:20190310T070000
END:DAYLIGHT
BEGIN:STANDARD
TZOFFSETFROM:-0400
TZOFFSETTO:-0500
TZNAME:EST
DTSTART:20191103T060000
END:STANDARD
END:VTIMEZONE
BEGIN:VEVENT
DTSTART;VALUE=DATE:20190515
DTEND;VALUE=DATE:20190516
DTSTAMP:20260419T170322
CREATED:20190504T132023Z
LAST-MODIFIED:20190504T132023Z
UID:10012548-1557878400-1557964799@islamiclaw.blog
SUMMARY:Call for Applications: College of the Holy Cross: Visiting Faculty Position\, MENA History
DESCRIPTION:From the organizers: As part of the Association for Gulf and Arabian Peninsula Studies' (AGAPS) commitment to support graduate students\, we are pleased to open applications for this year’s graduate travel fund award. If you are an MA or PhD student working on the region and your paper is accepted to the 2026 MESA conference\, … Continue reading Award: Student Travel Award\, Association for Gulf and Arabian Peninsula Studies\, September 1\, 2026
URL:https://islamiclaw.blog/event/call-for-applications-college-of-the-holy-cross-visiting-faculty-position-mena-history/
CATEGORIES:Applications,Due dates,Opportunities
END:VEVENT
BEGIN:VEVENT
DTSTART;VALUE=DATE:20190515
DTEND;VALUE=DATE:20190516
DTSTAMP:20260419T170322
CREATED:20190301T023120Z
LAST-MODIFIED:20190301T023120Z
UID:10012452-1557878400-1557964799@islamiclaw.blog
SUMMARY:Call for Papers: Law & Environment in the Indian Ocean World
DESCRIPTION:From the organizers: As part of the Association for Gulf and Arabian Peninsula Studies' (AGAPS) commitment to support graduate students\, we are pleased to open applications for this year’s graduate travel fund award. If you are an MA or PhD student working on the region and your paper is accepted to the 2026 MESA conference\, … Continue reading Award: Student Travel Award\, Association for Gulf and Arabian Peninsula Studies\, September 1\, 2026
URL:https://islamiclaw.blog/event/call-for-papers-law-environment-in-the-indian-ocean-world/
CATEGORIES:Call for papers,Due dates,Opportunities
END:VEVENT
BEGIN:VEVENT
DTSTART;VALUE=DATE:20190512
DTEND;VALUE=DATE:20190513
DTSTAMP:20260419T170322
CREATED:20190504T132227Z
LAST-MODIFIED:20190504T132227Z
UID:10012549-1557619200-1557705599@islamiclaw.blog
SUMMARY:Call for Applications: Los Angeles County Museum of Art: Assistant Curator\, Islamic Art
DESCRIPTION:From the organizers: As part of the Association for Gulf and Arabian Peninsula Studies' (AGAPS) commitment to support graduate students\, we are pleased to open applications for this year’s graduate travel fund award. If you are an MA or PhD student working on the region and your paper is accepted to the 2026 MESA conference\, … Continue reading Award: Student Travel Award\, Association for Gulf and Arabian Peninsula Studies\, September 1\, 2026
URL:https://islamiclaw.blog/event/call-for-applications-los-angeles-county-museum-of-art-assistant-curator-islamic-art/
CATEGORIES:Applications,Due dates,Opportunities
END:VEVENT
BEGIN:VEVENT
DTSTART;VALUE=DATE:20190510
DTEND;VALUE=DATE:20190512
DTSTAMP:20260419T170322
CREATED:20190414T173239Z
LAST-MODIFIED:20190414T173239Z
UID:10012128-1557446400-1557619199@islamiclaw.blog
SUMMARY:NYU Conference: Contact and Convergence
DESCRIPTION:From the organizers: As part of the Association for Gulf and Arabian Peninsula Studies' (AGAPS) commitment to support graduate students\, we are pleased to open applications for this year’s graduate travel fund award. If you are an MA or PhD student working on the region and your paper is accepted to the 2026 MESA conference\, … Continue reading Award: Student Travel Award\, Association for Gulf and Arabian Peninsula Studies\, September 1\, 2026
URL:https://islamiclaw.blog/event/nyu-conference-contact-and-convergence/
LOCATION:New York University\, New York\, NY
CATEGORIES:conferences and workshops,digital humanities,events in Islamic legal studies
END:VEVENT
BEGIN:VEVENT
DTSTART;VALUE=DATE:20190510
DTEND;VALUE=DATE:20190512
DTSTAMP:20260419T170322
CREATED:20190112T034036Z
LAST-MODIFIED:20190112T034036Z
UID:10012081-1557446400-1557619199@islamiclaw.blog
SUMMARY:NYU Conference: New Contact Zones in Islamic Studies
DESCRIPTION:From the organizers: As part of the Association for Gulf and Arabian Peninsula Studies' (AGAPS) commitment to support graduate students\, we are pleased to open applications for this year’s graduate travel fund award. If you are an MA or PhD student working on the region and your paper is accepted to the 2026 MESA conference\, … Continue reading Award: Student Travel Award\, Association for Gulf and Arabian Peninsula Studies\, September 1\, 2026
URL:https://islamiclaw.blog/event/nyu-conference-new-contact-zones-in-islamic-studies/
CATEGORIES:conferences and workshops,events in Islamic legal studies,tech
END:VEVENT
BEGIN:VEVENT
DTSTART;VALUE=DATE:20190503
DTEND;VALUE=DATE:20190504
DTSTAMP:20260419T170322
CREATED:20190307T010036Z
LAST-MODIFIED:20190307T010036Z
UID:10012456-1556841600-1556927999@islamiclaw.blog
SUMMARY:Harvard Medieval Studies Undergraduate Essay Prize
DESCRIPTION:From the organizers: As part of the Association for Gulf and Arabian Peninsula Studies' (AGAPS) commitment to support graduate students\, we are pleased to open applications for this year’s graduate travel fund award. If you are an MA or PhD student working on the region and your paper is accepted to the 2026 MESA conference\, … Continue reading Award: Student Travel Award\, Association for Gulf and Arabian Peninsula Studies\, September 1\, 2026
URL:https://islamiclaw.blog/event/harvard-medieval-studies-undergraduate-essay-prize/
CATEGORIES:Applications,Due dates,Opportunities,prizes and nominations
END:VEVENT
BEGIN:VEVENT
DTSTART;TZID=America/New_York:20190502T130000
DTEND;TZID=America/New_York:20190502T143000
DTSTAMP:20260419T170322
CREATED:20190224T171710Z
LAST-MODIFIED:20190224T171710Z
UID:10012446-1556802000-1556807400@islamiclaw.blog
SUMMARY:Harvard Lecture: Race\, Religion\, and Revolution in Islamic West Africa since 1770
DESCRIPTION:From the organizers: As part of the Association for Gulf and Arabian Peninsula Studies' (AGAPS) commitment to support graduate students\, we are pleased to open applications for this year’s graduate travel fund award. If you are an MA or PhD student working on the region and your paper is accepted to the 2026 MESA conference\, … Continue reading Award: Student Travel Award\, Association for Gulf and Arabian Peninsula Studies\, September 1\, 2026
URL:https://islamiclaw.blog/event/harvard-lecture-race-religion-and-revolution-in-islamic-west-africa-since-1770/
LOCATION:Harvard University\, Cambridge\, MA
CATEGORIES:lectures and talks
END:VEVENT
BEGIN:VEVENT
DTSTART;VALUE=DATE:20190501
DTEND;VALUE=DATE:20190502
DTSTAMP:20260419T170322
CREATED:20190405T004614Z
LAST-MODIFIED:20190405T004614Z
UID:10012511-1556668800-1556755199@islamiclaw.blog
SUMMARY:American University in Cairo Summer Institute for Islamic Studies
DESCRIPTION:From the organizers: As part of the Association for Gulf and Arabian Peninsula Studies' (AGAPS) commitment to support graduate students\, we are pleased to open applications for this year’s graduate travel fund award. If you are an MA or PhD student working on the region and your paper is accepted to the 2026 MESA conference\, … Continue reading Award: Student Travel Award\, Association for Gulf and Arabian Peninsula Studies\, September 1\, 2026
URL:https://islamiclaw.blog/event/american-university-in-cairo-summer-institute-for-islamic-studies/
LOCATION:American University in Cairo\, Cairo\, Egypt
CATEGORIES:Applications,courses,Due dates,Opportunities
END:VEVENT
BEGIN:VEVENT
DTSTART;VALUE=DATE:20190501
DTEND;VALUE=DATE:20190502
DTSTAMP:20260419T170322
CREATED:20190313T022422Z
LAST-MODIFIED:20190313T022422Z
UID:10012492-1556668800-1556755199@islamiclaw.blog
SUMMARY:Summer School in Languages (Armenian\, Persian\, Turkish) and Connected Histories
DESCRIPTION:From the organizers: As part of the Association for Gulf and Arabian Peninsula Studies' (AGAPS) commitment to support graduate students\, we are pleased to open applications for this year’s graduate travel fund award. If you are an MA or PhD student working on the region and your paper is accepted to the 2026 MESA conference\, … Continue reading Award: Student Travel Award\, Association for Gulf and Arabian Peninsula Studies\, September 1\, 2026
URL:https://islamiclaw.blog/event/summer-school-in-languages-armenian-persian-turkish-and-connected-histories/
CATEGORIES:Applications,courses,Due dates,Opportunities
END:VEVENT
BEGIN:VEVENT
DTSTART;VALUE=DATE:20190501
DTEND;VALUE=DATE:20190502
DTSTAMP:20260419T170322
CREATED:20190313T020216Z
LAST-MODIFIED:20190313T020216Z
UID:10012491-1556668800-1556755199@islamiclaw.blog
SUMMARY:Call for Papers: Mosques\, Families\, and Islamic Law
DESCRIPTION:From the organizers: As part of the Association for Gulf and Arabian Peninsula Studies' (AGAPS) commitment to support graduate students\, we are pleased to open applications for this year’s graduate travel fund award. If you are an MA or PhD student working on the region and your paper is accepted to the 2026 MESA conference\, … Continue reading Award: Student Travel Award\, Association for Gulf and Arabian Peninsula Studies\, September 1\, 2026
URL:https://islamiclaw.blog/event/call-for-papers-mosques-families-and-islamic-law/
CATEGORIES:Call for papers,Due dates,events in Islamic legal studies,Opportunities
END:VEVENT
BEGIN:VEVENT
DTSTART;VALUE=DATE:20190430
DTEND;VALUE=DATE:20190501
DTSTAMP:20260419T170322
CREATED:20190220T235128Z
LAST-MODIFIED:20190220T235128Z
UID:10012095-1556582400-1556668799@islamiclaw.blog
SUMMARY:Sixth Conference of the School of Mamlūk Studies Registration Deadline
DESCRIPTION:From the organizers: As part of the Association for Gulf and Arabian Peninsula Studies' (AGAPS) commitment to support graduate students\, we are pleased to open applications for this year’s graduate travel fund award. If you are an MA or PhD student working on the region and your paper is accepted to the 2026 MESA conference\, … Continue reading Award: Student Travel Award\, Association for Gulf and Arabian Peninsula Studies\, September 1\, 2026
URL:https://islamiclaw.blog/event/sixth-conference-of-the-school-of-mamluk-studies-registration-deadline/
LOCATION:Waseda University\, Tokyo\, Japan
CATEGORIES:conferences and workshops
END:VEVENT
BEGIN:VEVENT
DTSTART;TZID=America/New_York:20190425T120000
DTEND;TZID=America/New_York:20190425T130000
DTSTAMP:20260419T170322
CREATED:20190419T163201Z
LAST-MODIFIED:20190419T163201Z
UID:10012132-1556193600-1556197200@islamiclaw.blog
SUMMARY:Harvard Lecture: Evolution of Reformist Islamic Legal Thought
DESCRIPTION:From the organizers: As part of the Association for Gulf and Arabian Peninsula Studies' (AGAPS) commitment to support graduate students\, we are pleased to open applications for this year’s graduate travel fund award. If you are an MA or PhD student working on the region and your paper is accepted to the 2026 MESA conference\, … Continue reading Award: Student Travel Award\, Association for Gulf and Arabian Peninsula Studies\, September 1\, 2026
URL:https://islamiclaw.blog/event/harvard-lecture-evolution-of-reformist-islamic-legal-thought/
LOCATION:Harvard Law School
CATEGORIES:lectures and talks
END:VEVENT
BEGIN:VEVENT
DTSTART;TZID=America/New_York:20190424T170000
DTEND;TZID=America/New_York:20190424T183000
DTSTAMP:20260419T170322
CREATED:20190407T021132Z
LAST-MODIFIED:20190407T021132Z
UID:10012121-1556125200-1556130600@islamiclaw.blog
SUMMARY:Princeton Book Talk: Prophet in Islamic Texts and Images
DESCRIPTION:From the organizers: As part of the Association for Gulf and Arabian Peninsula Studies' (AGAPS) commitment to support graduate students\, we are pleased to open applications for this year’s graduate travel fund award. If you are an MA or PhD student working on the region and your paper is accepted to the 2026 MESA conference\, … Continue reading Award: Student Travel Award\, Association for Gulf and Arabian Peninsula Studies\, September 1\, 2026
URL:https://islamiclaw.blog/event/princeton-book-talk-prophet-in-islamic-texts-and-images/
LOCATION:Princeton University\, Princeton\, NJ
CATEGORIES:lectures and talks
END:VEVENT
BEGIN:VEVENT
DTSTART;TZID=America/New_York:20190423T183000
DTEND;TZID=America/New_York:20190423T200000
DTSTAMP:20260419T170322
CREATED:20190407T020803Z
LAST-MODIFIED:20190407T020803Z
UID:10012119-1556044200-1556049600@islamiclaw.blog
SUMMARY:Princeton Lecture: Illustrations in Islamic Manuscripts
DESCRIPTION:From the organizers: As part of the Association for Gulf and Arabian Peninsula Studies' (AGAPS) commitment to support graduate students\, we are pleased to open applications for this year’s graduate travel fund award. If you are an MA or PhD student working on the region and your paper is accepted to the 2026 MESA conference\, … Continue reading Award: Student Travel Award\, Association for Gulf and Arabian Peninsula Studies\, September 1\, 2026
URL:https://islamiclaw.blog/event/princeton-lecture-illustrations-in-islamic-manuscripts/
LOCATION:Princeton University\, Princeton\, NJ
CATEGORIES:lectures and talks
END:VEVENT
BEGIN:VEVENT
DTSTART;VALUE=DATE:20190423
DTEND;VALUE=DATE:20190424
DTSTAMP:20260419T170322
CREATED:20190414T174002Z
LAST-MODIFIED:20190414T174002Z
UID:10012130-1555977600-1556063999@islamiclaw.blog
SUMMARY:Call for Applications: UCLA: Librarian for Middle Eastern and Islamic Studies
DESCRIPTION:From the organizers: As part of the Association for Gulf and Arabian Peninsula Studies' (AGAPS) commitment to support graduate students\, we are pleased to open applications for this year’s graduate travel fund award. If you are an MA or PhD student working on the region and your paper is accepted to the 2026 MESA conference\, … Continue reading Award: Student Travel Award\, Association for Gulf and Arabian Peninsula Studies\, September 1\, 2026
URL:https://islamiclaw.blog/event/call-for-applications-ucla-librarian-for-middle-eastern-and-islamic-studies/
CATEGORIES:Applications,Due dates,Opportunities
END:VEVENT
BEGIN:VEVENT
DTSTART;TZID=America/New_York:20190422T163000
DTEND;TZID=America/New_York:20190422T180000
DTSTAMP:20260419T170322
CREATED:20190407T014215Z
LAST-MODIFIED:20190407T014215Z
UID:10012547-1555950600-1555956000@islamiclaw.blog
SUMMARY:Harvard Lecture: Islamic Legalities Across the Longue Durée
DESCRIPTION:From the organizers: As part of the Association for Gulf and Arabian Peninsula Studies' (AGAPS) commitment to support graduate students\, we are pleased to open applications for this year’s graduate travel fund award. If you are an MA or PhD student working on the region and your paper is accepted to the 2026 MESA conference\, … Continue reading Award: Student Travel Award\, Association for Gulf and Arabian Peninsula Studies\, September 1\, 2026
URL:https://islamiclaw.blog/event/harvard-lecture-islamic-legalities-across-the-longue-duree/
LOCATION:Harvard University Center for Middle Eastern Studies\, 38 Kirkland St\, Room 102\, Cambridge\, MA\, 02138
CATEGORIES:lectures and talks
END:VEVENT
BEGIN:VEVENT
DTSTART;VALUE=DATE:20190422
DTEND;VALUE=DATE:20190423
DTSTAMP:20260419T170322
CREATED:20190405T005649Z
LAST-MODIFIED:20190405T005649Z
UID:10012542-1555891200-1555977599@islamiclaw.blog
SUMMARY:Call for Applications: Forum Transregionale Studien: Postdoctoral Fellow\, Europe and Middle East
DESCRIPTION:From the organizers: As part of the Association for Gulf and Arabian Peninsula Studies' (AGAPS) commitment to support graduate students\, we are pleased to open applications for this year’s graduate travel fund award. If you are an MA or PhD student working on the region and your paper is accepted to the 2026 MESA conference\, … Continue reading Award: Student Travel Award\, Association for Gulf and Arabian Peninsula Studies\, September 1\, 2026
URL:https://islamiclaw.blog/event/call-for-applications-forum-transregionale-studien-postdoctoral-fellow-europe-and-middle-east/
LOCATION:Forum Transregionale Studien\, Berlin\, Germany
CATEGORIES:Applications,Due dates,Fellowships,Opportunities
END:VEVENT
BEGIN:VEVENT
DTSTART;VALUE=DATE:20190420
DTEND;VALUE=DATE:20190421
DTSTAMP:20260419T170322
CREATED:20190307T014045Z
LAST-MODIFIED:20191029T023236Z
UID:10012099-1555718400-1555804799@islamiclaw.blog
SUMMARY:Persian Language Summer School in Armenia
DESCRIPTION:From the organizers: As part of the Association for Gulf and Arabian Peninsula Studies' (AGAPS) commitment to support graduate students\, we are pleased to open applications for this year’s graduate travel fund award. If you are an MA or PhD student working on the region and your paper is accepted to the 2026 MESA conference\, … Continue reading Award: Student Travel Award\, Association for Gulf and Arabian Peninsula Studies\, September 1\, 2026
URL:https://islamiclaw.blog/event/persian-language-summer-school-in-armenia/
CATEGORIES:Applications,courses,Due dates,Opportunities
END:VEVENT
BEGIN:VEVENT
DTSTART;VALUE=DATE:20190418
DTEND;VALUE=DATE:20190419
DTSTAMP:20260419T170322
CREATED:20190321T010717Z
LAST-MODIFIED:20190321T010717Z
UID:10012507-1555545600-1555631999@islamiclaw.blog
SUMMARY:Call for Applications: Library of Congress: Chief\, African and Middle Eastern Division
DESCRIPTION:From the organizers: As part of the Association for Gulf and Arabian Peninsula Studies' (AGAPS) commitment to support graduate students\, we are pleased to open applications for this year’s graduate travel fund award. If you are an MA or PhD student working on the region and your paper is accepted to the 2026 MESA conference\, … Continue reading Award: Student Travel Award\, Association for Gulf and Arabian Peninsula Studies\, September 1\, 2026
URL:https://islamiclaw.blog/event/call-for-applications-library-of-congress-chief-african-and-middle-eastern-division/
CATEGORIES:Applications,Due dates,Opportunities
END:VEVENT
BEGIN:VEVENT
DTSTART;TZID=America/New_York:20190417T140000
DTEND;TZID=America/New_York:20190418T183000
DTSTAMP:20260419T170322
CREATED:20190405T011835Z
LAST-MODIFIED:20190405T011835Z
UID:10012543-1555509600-1555612200@islamiclaw.blog
SUMMARY:Harvard Symposium: Religion & Public Life in Africa and the Americas
DESCRIPTION:From the organizers: As part of the Association for Gulf and Arabian Peninsula Studies' (AGAPS) commitment to support graduate students\, we are pleased to open applications for this year’s graduate travel fund award. If you are an MA or PhD student working on the region and your paper is accepted to the 2026 MESA conference\, … Continue reading Award: Student Travel Award\, Association for Gulf and Arabian Peninsula Studies\, September 1\, 2026
URL:https://islamiclaw.blog/event/harvard-symposium-religion-public-life-in-africa-and-the-americas/
LOCATION:Harvard University\, Cambridge\, MA
CATEGORIES:conferences and workshops
END:VEVENT
BEGIN:VEVENT
DTSTART;VALUE=DATE:20190416
DTEND;VALUE=DATE:20190417
DTSTAMP:20260419T170322
CREATED:20190407T012728Z
LAST-MODIFIED:20190407T012728Z
UID:10012545-1555372800-1555459199@islamiclaw.blog
SUMMARY:Harvard Undergraduate Thesis Prize in Islamic Studies
DESCRIPTION:From the organizers: As part of the Association for Gulf and Arabian Peninsula Studies' (AGAPS) commitment to support graduate students\, we are pleased to open applications for this year’s graduate travel fund award. If you are an MA or PhD student working on the region and your paper is accepted to the 2026 MESA conference\, … Continue reading Award: Student Travel Award\, Association for Gulf and Arabian Peninsula Studies\, September 1\, 2026
URL:https://islamiclaw.blog/event/harvard-undergraduate-thesis-prize-in-islamic-studies/
CATEGORIES:Due dates,Opportunities,prizes and nominations
END:VEVENT
BEGIN:VEVENT
DTSTART;VALUE=DATE:20190415
DTEND;VALUE=DATE:20190416
DTSTAMP:20260419T170322
CREATED:20190407T011906Z
LAST-MODIFIED:20190407T011906Z
UID:10012544-1555286400-1555372799@islamiclaw.blog
SUMMARY:Arabic Codicology Summer Course in El Escorial
DESCRIPTION:From the organizers: As part of the Association for Gulf and Arabian Peninsula Studies' (AGAPS) commitment to support graduate students\, we are pleased to open applications for this year’s graduate travel fund award. If you are an MA or PhD student working on the region and your paper is accepted to the 2026 MESA conference\, … Continue reading Award: Student Travel Award\, Association for Gulf and Arabian Peninsula Studies\, September 1\, 2026
URL:https://islamiclaw.blog/event/arabic-codicology-summer-course-in-el-escorial/
CATEGORIES:Applications,courses,Due dates,Opportunities
END:VEVENT
BEGIN:VEVENT
DTSTART;VALUE=DATE:20190415
DTEND;VALUE=DATE:20190416
DTSTAMP:20260419T170322
CREATED:20190220T234012Z
LAST-MODIFIED:20190220T234012Z
UID:10012094-1555286400-1555372799@islamiclaw.blog
SUMMARY:Association for the Study of the Middle East and Africa (ASMEA) Research Grants
DESCRIPTION:From the organizers: As part of the Association for Gulf and Arabian Peninsula Studies' (AGAPS) commitment to support graduate students\, we are pleased to open applications for this year’s graduate travel fund award. If you are an MA or PhD student working on the region and your paper is accepted to the 2026 MESA conference\, … Continue reading Award: Student Travel Award\, Association for Gulf and Arabian Peninsula Studies\, September 1\, 2026
URL:https://islamiclaw.blog/event/association-for-the-study-of-the-middle-east-and-africa-asmea-research-grants/
CATEGORIES:Due dates,Grants,Opportunities
END:VEVENT
BEGIN:VEVENT
DTSTART;TZID=America/New_York:20190412T170000
DTEND;TZID=America/New_York:20190412T183000
DTSTAMP:20260419T170322
CREATED:20190412T035532Z
LAST-MODIFIED:20190412T035532Z
UID:10012123-1555088400-1555093800@islamiclaw.blog
SUMMARY:Harvard Lecture: Sovereignty and Popular Politics in Mughal Delhi
DESCRIPTION:From the organizers: As part of the Association for Gulf and Arabian Peninsula Studies' (AGAPS) commitment to support graduate students\, we are pleased to open applications for this year’s graduate travel fund award. If you are an MA or PhD student working on the region and your paper is accepted to the 2026 MESA conference\, … Continue reading Award: Student Travel Award\, Association for Gulf and Arabian Peninsula Studies\, September 1\, 2026
URL:https://islamiclaw.blog/event/harvard-lecture-sovereignty-and-popular-politics-in-mughal-delhi/
LOCATION:Harvard University\, Cambridge\, MA
CATEGORIES:lectures and talks
END:VEVENT
BEGIN:VEVENT
DTSTART;VALUE=DATE:20190412
DTEND;VALUE=DATE:20190413
DTSTAMP:20260419T170322
CREATED:20190313T023402Z
LAST-MODIFIED:20190313T023402Z
UID:10012494-1555027200-1555113599@islamiclaw.blog
SUMMARY:Call for Papers: First Harvard Undergraduate Medieval and Early Modern Symposium
DESCRIPTION:From the organizers: As part of the Association for Gulf and Arabian Peninsula Studies' (AGAPS) commitment to support graduate students\, we are pleased to open applications for this year’s graduate travel fund award. If you are an MA or PhD student working on the region and your paper is accepted to the 2026 MESA conference\, … Continue reading Award: Student Travel Award\, Association for Gulf and Arabian Peninsula Studies\, September 1\, 2026
URL:https://islamiclaw.blog/event/call-for-papers-first-harvard-undergraduate-medieval-and-early-modern-symposium/
LOCATION:Harvard University\, Cambridge\, MA
CATEGORIES:Call for papers,Due dates,Opportunities
END:VEVENT
BEGIN:VEVENT
DTSTART;TZID=America/New_York:20190411T150000
DTEND;TZID=America/New_York:20190411T163000
DTSTAMP:20260419T170322
CREATED:20190407T013338Z
LAST-MODIFIED:20190407T013338Z
UID:10012546-1554994800-1555000200@islamiclaw.blog
SUMMARY:Harvard Lecture: How Greek Logic Ascertains Islamic Law
DESCRIPTION:From the organizers: As part of the Association for Gulf and Arabian Peninsula Studies' (AGAPS) commitment to support graduate students\, we are pleased to open applications for this year’s graduate travel fund award. If you are an MA or PhD student working on the region and your paper is accepted to the 2026 MESA conference\, … Continue reading Award: Student Travel Award\, Association for Gulf and Arabian Peninsula Studies\, September 1\, 2026
URL:https://islamiclaw.blog/event/harvard-lecture-how-greek-logic-ascertains-islamic-law-2/
LOCATION:Harvard University\, Cambridge\, MA
CATEGORIES:lectures and talks
END:VEVENT
BEGIN:VEVENT
DTSTART;TZID=America/New_York:20190411T140000
DTEND;TZID=America/New_York:20190411T153000
DTSTAMP:20260419T170322
CREATED:20190224T171555Z
LAST-MODIFIED:20190224T171555Z
UID:10012444-1554991200-1554996600@islamiclaw.blog
SUMMARY:Harvard Lecture: How Greek Logic Ascertains Islamic Law
DESCRIPTION:From the organizers: As part of the Association for Gulf and Arabian Peninsula Studies' (AGAPS) commitment to support graduate students\, we are pleased to open applications for this year’s graduate travel fund award. If you are an MA or PhD student working on the region and your paper is accepted to the 2026 MESA conference\, … Continue reading Award: Student Travel Award\, Association for Gulf and Arabian Peninsula Studies\, September 1\, 2026
URL:https://islamiclaw.blog/event/harvard-lecture-how-greek-logic-ascertains-islamic-law/
LOCATION:Harvard University\, Cambridge\, MA
CATEGORIES:lectures and talks
END:VEVENT
BEGIN:VEVENT
DTSTART;VALUE=DATE:20190411
DTEND;VALUE=DATE:20190413
DTSTAMP:20260419T170322
CREATED:20190317T194031Z
LAST-MODIFIED:20190317T194031Z
UID:10012496-1554940800-1555113599@islamiclaw.blog
SUMMARY:Muslim Marriages: Plurality of Norms and Practices
DESCRIPTION:From the organizers: As part of the Association for Gulf and Arabian Peninsula Studies' (AGAPS) commitment to support graduate students\, we are pleased to open applications for this year’s graduate travel fund award. If you are an MA or PhD student working on the region and your paper is accepted to the 2026 MESA conference\, … Continue reading Award: Student Travel Award\, Association for Gulf and Arabian Peninsula Studies\, September 1\, 2026
URL:https://islamiclaw.blog/event/muslim-marriages-plurality-of-norms-and-practices/
LOCATION:University of Amsterdam\, Amsterdam\, Netherlands
CATEGORIES:conferences and workshops,events in Islamic legal studies
END:VEVENT
BEGIN:VEVENT
DTSTART;VALUE=DATE:20190405
DTEND;VALUE=DATE:20190406
DTSTAMP:20260419T170322
CREATED:20190320T012550Z
LAST-MODIFIED:20190320T012550Z
UID:10012503-1554422400-1554508799@islamiclaw.blog
SUMMARY:Registration Deadline for British Association for Islamic Studies (BRAIS) 2019 Conference
DESCRIPTION:From the organizers: As part of the Association for Gulf and Arabian Peninsula Studies' (AGAPS) commitment to support graduate students\, we are pleased to open applications for this year’s graduate travel fund award. If you are an MA or PhD student working on the region and your paper is accepted to the 2026 MESA conference\, … Continue reading Award: Student Travel Award\, Association for Gulf and Arabian Peninsula Studies\, September 1\, 2026
URL:https://islamiclaw.blog/event/registration-deadline-for-british-association-for-islamic-studies-brais-2019-conference/
LOCATION:University of Nottingham\, Nottingham\, United Kingdom
CATEGORIES:conferences and workshops,events in Islamic legal studies
END:VEVENT
BEGIN:VEVENT
DTSTART;VALUE=DATE:20190405
DTEND;VALUE=DATE:20190406
DTSTAMP:20260419T170322
CREATED:20190301T021122Z
LAST-MODIFIED:20190301T021122Z
UID:10012450-1554422400-1554508799@islamiclaw.blog
SUMMARY:Call for Papers: African Legal History Symposium
DESCRIPTION:From the organizers: As part of the Association for Gulf and Arabian Peninsula Studies' (AGAPS) commitment to support graduate students\, we are pleased to open applications for this year’s graduate travel fund award. If you are an MA or PhD student working on the region and your paper is accepted to the 2026 MESA conference\, … Continue reading Award: Student Travel Award\, Association for Gulf and Arabian Peninsula Studies\, September 1\, 2026
URL:https://islamiclaw.blog/event/call-for-papers-african-legal-history-symposium/
CATEGORIES:Call for papers,Due dates,Opportunities
END:VEVENT
END:VCALENDAR