BEGIN:VCALENDAR
VERSION:2.0
PRODID:-//Islamic Law Blog - ECPv6.7.0//NONSGML v1.0//EN
CALSCALE:GREGORIAN
METHOD:PUBLISH
X-WR-CALNAME:Islamic Law Blog
X-ORIGINAL-URL:https://islamiclaw.blog
X-WR-CALDESC:Events for Islamic Law Blog
REFRESH-INTERVAL;VALUE=DURATION:PT1H
X-Robots-Tag:noindex
X-PUBLISHED-TTL:PT1H
BEGIN:VTIMEZONE
TZID:America/New_York
BEGIN:DAYLIGHT
TZOFFSETFROM:-0500
TZOFFSETTO:-0400
TZNAME:EDT
DTSTART:20170312T070000
END:DAYLIGHT
BEGIN:STANDARD
TZOFFSETFROM:-0400
TZOFFSETTO:-0500
TZNAME:EST
DTSTART:20171105T060000
END:STANDARD
END:VTIMEZONE
BEGIN:VEVENT
DTSTART;TZID=America/New_York:20171015T080000
DTEND;TZID=America/New_York:20171015T170000
DTSTAMP:20260422T132940
CREATED:20170925T173423Z
LAST-MODIFIED:20170925T173423Z
UID:10011976-1508054400-1508086800@islamiclaw.blog
SUMMARY:Due: Assistant Professor - Study of Muslims/Islam in North America (tenure-track)\, University of Minnesota
DESCRIPTION:From Western Michigan University: The Medieval Institute at Western Michigan University is delighted to host the Wallace Johnson Program for First Book Authors\, a program designed to provide support and mentorship to scholars working towards the publication of their first book on the law and legal culture of the early middle ages. In conversation with … Continue reading Call for Proposals: The 5th Wallace Johnson First Book Mentoring Program\, Medieval Institute at Western Michigan University\, April 1\, 2024
URL:https://islamiclaw.blog/event/due-assistant-professor-study-of-muslimsislam-in-north-america-tenure-track-university-of-minnesota/
LOCATION:University of Minnesota-Twin Cities
END:VEVENT
BEGIN:VEVENT
DTSTART;VALUE=DATE:20171015
DTEND;VALUE=DATE:20171016
DTSTAMP:20260422T132940
CREATED:20170926T185115Z
LAST-MODIFIED:20170926T185115Z
UID:10011991-1508025600-1508111999@islamiclaw.blog
SUMMARY:Call for Papers: American Oriental Society 228th Meeting
DESCRIPTION:From Western Michigan University: The Medieval Institute at Western Michigan University is delighted to host the Wallace Johnson Program for First Book Authors\, a program designed to provide support and mentorship to scholars working towards the publication of their first book on the law and legal culture of the early middle ages. In conversation with … Continue reading Call for Proposals: The 5th Wallace Johnson First Book Mentoring Program\, Medieval Institute at Western Michigan University\, April 1\, 2024
URL:https://islamiclaw.blog/event/call-for-papers-american-oriental-society-228th-meeting/
CATEGORIES:Call for papers,Due dates,Opportunities
END:VEVENT
BEGIN:VEVENT
DTSTART;VALUE=DATE:20171015
DTEND;VALUE=DATE:20171016
DTSTAMP:20260422T132940
CREATED:20170925T173156Z
LAST-MODIFIED:20170925T173156Z
UID:10011975-1508025600-1508111999@islamiclaw.blog
SUMMARY:DUE: Assistant- or Associate-Level Faculty Position in Law and Legal Institutions in Muslim Societies
DESCRIPTION:From Western Michigan University: The Medieval Institute at Western Michigan University is delighted to host the Wallace Johnson Program for First Book Authors\, a program designed to provide support and mentorship to scholars working towards the publication of their first book on the law and legal culture of the early middle ages. In conversation with … Continue reading Call for Proposals: The 5th Wallace Johnson First Book Mentoring Program\, Medieval Institute at Western Michigan University\, April 1\, 2024
URL:https://islamiclaw.blog/event/due-assistant-or-associate-level-faculty-position-in-law-and-legal-institutions-in-muslim-societies/
LOCATION:Stanford University\, Stanford\, CA
CATEGORIES:Due dates,Opportunities
END:VEVENT
BEGIN:VEVENT
DTSTART;VALUE=DATE:20171015
DTEND;VALUE=DATE:20171016
DTSTAMP:20260422T132940
CREATED:20170925T172741Z
LAST-MODIFIED:20170925T172741Z
UID:10011971-1508025600-1508111999@islamiclaw.blog
SUMMARY:DUE: Tenure-Track Professor in Modern Middle East History\, Harvard University
DESCRIPTION:From Western Michigan University: The Medieval Institute at Western Michigan University is delighted to host the Wallace Johnson Program for First Book Authors\, a program designed to provide support and mentorship to scholars working towards the publication of their first book on the law and legal culture of the early middle ages. In conversation with … Continue reading Call for Proposals: The 5th Wallace Johnson First Book Mentoring Program\, Medieval Institute at Western Michigan University\, April 1\, 2024
URL:https://islamiclaw.blog/event/due-tenure-track-professor-in-modern-middle-east-history-harvard-university/
LOCATION:Harvard University\, Cambridge\, MA
CATEGORIES:Due dates,Opportunities
END:VEVENT
BEGIN:VEVENT
DTSTART;VALUE=DATE:20171015
DTEND;VALUE=DATE:20171016
DTSTAMP:20260422T132940
CREATED:20170925T171311Z
LAST-MODIFIED:20170925T171311Z
UID:10011965-1508025600-1508111999@islamiclaw.blog
SUMMARY:Applications due :: Tenure-track faculty position opening- Boston University
DESCRIPTION:From Western Michigan University: The Medieval Institute at Western Michigan University is delighted to host the Wallace Johnson Program for First Book Authors\, a program designed to provide support and mentorship to scholars working towards the publication of their first book on the law and legal culture of the early middle ages. In conversation with … Continue reading Call for Proposals: The 5th Wallace Johnson First Book Mentoring Program\, Medieval Institute at Western Michigan University\, April 1\, 2024
URL:https://islamiclaw.blog/event/applications-due-tenure-track-faculty-position-opening-boston-university/
CATEGORIES:Due dates,Opportunities
END:VEVENT
BEGIN:VEVENT
DTSTART;TZID=America/New_York:20171006T090000
DTEND;TZID=America/New_York:20171006T180000
DTSTAMP:20260422T132940
CREATED:20171002T152234Z
LAST-MODIFIED:20171002T152234Z
UID:10011997-1507280400-1507312800@islamiclaw.blog
SUMMARY:Islamic Law and its Implementation in Asia and The Middle-East
DESCRIPTION:From Western Michigan University: The Medieval Institute at Western Michigan University is delighted to host the Wallace Johnson Program for First Book Authors\, a program designed to provide support and mentorship to scholars working towards the publication of their first book on the law and legal culture of the early middle ages. In conversation with … Continue reading Call for Proposals: The 5th Wallace Johnson First Book Mentoring Program\, Medieval Institute at Western Michigan University\, April 1\, 2024
URL:https://islamiclaw.blog/event/islamic-law-and-its-implementation-in-asia-and-the-middle-east/
LOCATION:British Institute of International and Comparative Law\, Charles Clore House\, 17 Russell Square\, London\, WC1B 5JP\, United Kingdom
CATEGORIES:conferences and workshops,lectures and talks
END:VEVENT
BEGIN:VEVENT
DTSTART;TZID=America/New_York:20171004T170000
DTEND;TZID=America/New_York:20171004T190000
DTSTAMP:20260422T132940
CREATED:20170926T141239Z
LAST-MODIFIED:20170926T141239Z
UID:10011980-1507136400-1507143600@islamiclaw.blog
SUMMARY:Prince Alwaleed Bin Talal Islamic Studies Program’s Faculty and Student Annual Fall Mixer
DESCRIPTION:From Western Michigan University: The Medieval Institute at Western Michigan University is delighted to host the Wallace Johnson Program for First Book Authors\, a program designed to provide support and mentorship to scholars working towards the publication of their first book on the law and legal culture of the early middle ages. In conversation with … Continue reading Call for Proposals: The 5th Wallace Johnson First Book Mentoring Program\, Medieval Institute at Western Michigan University\, April 1\, 2024
URL:https://islamiclaw.blog/event/prince-alwaleed-bin-talal-islamic-studies-programs-faculty-and-student-annual-fall-mixer/
LOCATION:Thompson Room\, Barker Center\, 12 Quincy Street\, Cambridge\, MA\, 02138
END:VEVENT
BEGIN:VEVENT
DTSTART;TZID=America/New_York:20171003T120000
DTEND;TZID=America/New_York:20171003T133000
DTSTAMP:20260422T132940
CREATED:20170921T203637Z
LAST-MODIFIED:20170921T203637Z
UID:10011950-1507032000-1507037400@islamiclaw.blog
SUMMARY:BOOK PANEL :: The Futility of Law and Development (Oxford 2016)
DESCRIPTION:From Western Michigan University: The Medieval Institute at Western Michigan University is delighted to host the Wallace Johnson Program for First Book Authors\, a program designed to provide support and mentorship to scholars working towards the publication of their first book on the law and legal culture of the early middle ages. In conversation with … Continue reading Call for Proposals: The 5th Wallace Johnson First Book Mentoring Program\, Medieval Institute at Western Michigan University\, April 1\, 2024
URL:https://islamiclaw.blog/event/book-panel-the-futility-of-law-and-development-oxford-2016/
LOCATION:Harvard Law School Library\, 1563 Massachusetts Avenue\, Cambridge\, 02138\, United States
CATEGORIES:lectures and talks
END:VEVENT
BEGIN:VEVENT
DTSTART;VALUE=DATE:20171002
DTEND;VALUE=DATE:20171003
DTSTAMP:20260422T132940
CREATED:20170925T171530Z
LAST-MODIFIED:20170925T171530Z
UID:10011967-1506902400-1506988799@islamiclaw.blog
SUMMARY:Due: Assistant- or Associate-Level Faculty Position in Islam and the Arts at Stanford University
DESCRIPTION:From Western Michigan University: The Medieval Institute at Western Michigan University is delighted to host the Wallace Johnson Program for First Book Authors\, a program designed to provide support and mentorship to scholars working towards the publication of their first book on the law and legal culture of the early middle ages. In conversation with … Continue reading Call for Proposals: The 5th Wallace Johnson First Book Mentoring Program\, Medieval Institute at Western Michigan University\, April 1\, 2024
URL:https://islamiclaw.blog/event/due-assistant-or-associate-level-faculty-position-in-islam-and-the-arts-at-stanford-university/
LOCATION:Stanford University\, Stanford\, CA
CATEGORIES:Due dates,Opportunities
END:VEVENT
BEGIN:VEVENT
DTSTART;VALUE=DATE:20170930
DTEND;VALUE=DATE:20171001
DTSTAMP:20260422T132940
CREATED:20170926T180235Z
LAST-MODIFIED:20170926T180235Z
UID:10011985-1506729600-1506815999@islamiclaw.blog
SUMMARY:CFP: Association for Iranian Studies 2018 Biennial Conference
DESCRIPTION:From Western Michigan University: The Medieval Institute at Western Michigan University is delighted to host the Wallace Johnson Program for First Book Authors\, a program designed to provide support and mentorship to scholars working towards the publication of their first book on the law and legal culture of the early middle ages. In conversation with … Continue reading Call for Proposals: The 5th Wallace Johnson First Book Mentoring Program\, Medieval Institute at Western Michigan University\, April 1\, 2024
URL:https://islamiclaw.blog/event/cfp-association-for-iranian-studies-2018-biennial-conference/
CATEGORIES:Call for papers,Due dates
END:VEVENT
BEGIN:VEVENT
DTSTART;TZID=America/New_York:20170929T120000
DTEND;TZID=America/New_York:20170929T130000
DTSTAMP:20260422T132940
CREATED:20170926T141050Z
LAST-MODIFIED:20170926T141050Z
UID:10011979-1506686400-1506690000@islamiclaw.blog
SUMMARY:LUNCH DISCUSSION :: Feminist Voices in Islam: Rethinking Patriarchal Ethics
DESCRIPTION:From Western Michigan University: The Medieval Institute at Western Michigan University is delighted to host the Wallace Johnson Program for First Book Authors\, a program designed to provide support and mentorship to scholars working towards the publication of their first book on the law and legal culture of the early middle ages. In conversation with … Continue reading Call for Proposals: The 5th Wallace Johnson First Book Mentoring Program\, Medieval Institute at Western Michigan University\, April 1\, 2024
URL:https://islamiclaw.blog/event/lunch-discussion-feminist-voices-in-islam-rethinking-patriarchal-ethics/
LOCATION:Harvard Law School
CATEGORIES:lectures and talks
END:VEVENT
BEGIN:VEVENT
DTSTART;TZID=America/New_York:20170929T090000
DTEND;TZID=America/New_York:20171001T170000
DTSTAMP:20260422T132940
CREATED:20170926T190039Z
LAST-MODIFIED:20170926T190039Z
UID:10011993-1506675600-1506877200@islamiclaw.blog
SUMMARY:Islamic Legal Theories in the Late Post-Classical Period
DESCRIPTION:From Western Michigan University: The Medieval Institute at Western Michigan University is delighted to host the Wallace Johnson Program for First Book Authors\, a program designed to provide support and mentorship to scholars working towards the publication of their first book on the law and legal culture of the early middle ages. In conversation with … Continue reading Call for Proposals: The 5th Wallace Johnson First Book Mentoring Program\, Medieval Institute at Western Michigan University\, April 1\, 2024
URL:https://islamiclaw.blog/event/islamic-legal-theories-in-the-late-post-classical-period/
LOCATION:UC Berkeley\, Barrows Hall\, Room 254\, Berkeley\, CA
CATEGORIES:lectures and talks
END:VEVENT
BEGIN:VEVENT
DTSTART;TZID=America/New_York:20170928T160000
DTEND;TZID=America/New_York:20170928T180000
DTSTAMP:20260422T132940
CREATED:20170926T140923Z
LAST-MODIFIED:20170926T140923Z
UID:10011978-1506614400-1506621600@islamiclaw.blog
SUMMARY:LECTURE :: Conquest and Conversion in Medieval Muslim Sicily
DESCRIPTION:From Western Michigan University: The Medieval Institute at Western Michigan University is delighted to host the Wallace Johnson Program for First Book Authors\, a program designed to provide support and mentorship to scholars working towards the publication of their first book on the law and legal culture of the early middle ages. In conversation with … Continue reading Call for Proposals: The 5th Wallace Johnson First Book Mentoring Program\, Medieval Institute at Western Michigan University\, April 1\, 2024
URL:https://islamiclaw.blog/event/lecture-conquest-and-conversion-in-medieval-muslim-sicily/
LOCATION:CMES\, Room 102\, 38 Kirkland Street\, Cambridge\, MA\, 02138
CATEGORIES:lectures and talks
END:VEVENT
BEGIN:VEVENT
DTSTART;TZID=America/New_York:20170927T120000
DTEND;TZID=America/New_York:20170927T133000
DTSTAMP:20260422T132940
CREATED:20170921T203128Z
LAST-MODIFIED:20170921T203128Z
UID:10011949-1506513600-1506519000@islamiclaw.blog
SUMMARY:BOOK PANEL :: Law\, Religion\, and Health in the United States (Cambridge 2017)
DESCRIPTION:From Western Michigan University: The Medieval Institute at Western Michigan University is delighted to host the Wallace Johnson Program for First Book Authors\, a program designed to provide support and mentorship to scholars working towards the publication of their first book on the law and legal culture of the early middle ages. In conversation with … Continue reading Call for Proposals: The 5th Wallace Johnson First Book Mentoring Program\, Medieval Institute at Western Michigan University\, April 1\, 2024
URL:https://islamiclaw.blog/event/book-panel-law-religion-and-health-in-the-united-states-cambridge-2017/
LOCATION:Harvard Law School Library\, 1563 Massachusetts Avenue\, Cambridge\, 02138\, United States
CATEGORIES:lectures and talks
END:VEVENT
BEGIN:VEVENT
DTSTART;TZID=America/New_York:20170926T160000
DTEND;TZID=America/New_York:20170926T180000
DTSTAMP:20260422T132940
CREATED:20170926T140643Z
LAST-MODIFIED:20170926T140643Z
UID:10011977-1506441600-1506448800@islamiclaw.blog
SUMMARY:CMES FALL RECEPTION
DESCRIPTION:From Western Michigan University: The Medieval Institute at Western Michigan University is delighted to host the Wallace Johnson Program for First Book Authors\, a program designed to provide support and mentorship to scholars working towards the publication of their first book on the law and legal culture of the early middle ages. In conversation with … Continue reading Call for Proposals: The 5th Wallace Johnson First Book Mentoring Program\, Medieval Institute at Western Michigan University\, April 1\, 2024
URL:https://islamiclaw.blog/event/cmes-fall-reception/
LOCATION:CMES\, 38 Kirkland Street\, Cambridge\, MA\, 02138
END:VEVENT
BEGIN:VEVENT
DTSTART;TZID=America/New_York:20170922T120000
DTEND;TZID=America/New_York:20170922T130000
DTSTAMP:20260422T132940
CREATED:20170921T202855Z
LAST-MODIFIED:20170921T202855Z
UID:10011948-1506081600-1506085200@islamiclaw.blog
SUMMARY:ILSP LUNCH TALK :: Family Law Reform in Pakistan: Recent Opinions (Fatwās) Favoring Women-Initiated Divorce
DESCRIPTION:From Western Michigan University: The Medieval Institute at Western Michigan University is delighted to host the Wallace Johnson Program for First Book Authors\, a program designed to provide support and mentorship to scholars working towards the publication of their first book on the law and legal culture of the early middle ages. In conversation with … Continue reading Call for Proposals: The 5th Wallace Johnson First Book Mentoring Program\, Medieval Institute at Western Michigan University\, April 1\, 2024
URL:https://islamiclaw.blog/event/ilsp-lunch-talk-family-law-reform-in-pakistan-recent-opinions-fatwas-favoring-women-initiated-divorce/
LOCATION:Austin 102\, Austin Hall\, Harvard Law School\, United States
CATEGORIES:lectures and talks,SHARIAsource events
END:VEVENT
BEGIN:VEVENT
DTSTART;TZID=America/New_York:20170919T150000
DTEND;TZID=America/New_York:20170919T170000
DTSTAMP:20260422T132940
CREATED:20170921T202356Z
LAST-MODIFIED:20170921T202356Z
UID:10011947-1505833200-1505840400@islamiclaw.blog
SUMMARY:SHARIASOURCE OPEN HOUSE
DESCRIPTION:From Western Michigan University: The Medieval Institute at Western Michigan University is delighted to host the Wallace Johnson Program for First Book Authors\, a program designed to provide support and mentorship to scholars working towards the publication of their first book on the law and legal culture of the early middle ages. In conversation with … Continue reading Call for Proposals: The 5th Wallace Johnson First Book Mentoring Program\, Medieval Institute at Western Michigan University\, April 1\, 2024
URL:https://islamiclaw.blog/event/shariasource-open-house/
CATEGORIES:SHARIAsource events
END:VEVENT
BEGIN:VEVENT
DTSTART;TZID=America/New_York:20170907T160000
DTEND;TZID=America/New_York:20170907T180000
DTSTAMP:20260422T132940
CREATED:20170921T202201Z
LAST-MODIFIED:20170921T202201Z
UID:10011946-1504800000-1504807200@islamiclaw.blog
SUMMARY:LECTURE  ::  The Dilemma of Islamic Constitutionalism
DESCRIPTION:From Western Michigan University: The Medieval Institute at Western Michigan University is delighted to host the Wallace Johnson Program for First Book Authors\, a program designed to provide support and mentorship to scholars working towards the publication of their first book on the law and legal culture of the early middle ages. In conversation with … Continue reading Call for Proposals: The 5th Wallace Johnson First Book Mentoring Program\, Medieval Institute at Western Michigan University\, April 1\, 2024
URL:https://islamiclaw.blog/event/lecture-the-dilemma-of-islamic-constitutionalism/
CATEGORIES:lectures and talks
END:VEVENT
END:VCALENDAR