BEGIN:VCALENDAR
VERSION:2.0
PRODID:-//Islamic Law Blog - ECPv6.7.0//NONSGML v1.0//EN
CALSCALE:GREGORIAN
METHOD:PUBLISH
X-WR-CALNAME:Islamic Law Blog
X-ORIGINAL-URL:https://islamiclaw.blog
X-WR-CALDESC:Events for Islamic Law Blog
REFRESH-INTERVAL;VALUE=DURATION:PT1H
X-Robots-Tag:noindex
X-PUBLISHED-TTL:PT1H
BEGIN:VTIMEZONE
TZID:America/New_York
BEGIN:DAYLIGHT
TZOFFSETFROM:-0500
TZOFFSETTO:-0400
TZNAME:EDT
DTSTART:20240310T070000
END:DAYLIGHT
BEGIN:STANDARD
TZOFFSETFROM:-0400
TZOFFSETTO:-0500
TZNAME:EST
DTSTART:20241103T060000
END:STANDARD
BEGIN:DAYLIGHT
TZOFFSETFROM:-0500
TZOFFSETTO:-0400
TZNAME:EDT
DTSTART:20250309T070000
END:DAYLIGHT
BEGIN:STANDARD
TZOFFSETFROM:-0400
TZOFFSETTO:-0500
TZNAME:EST
DTSTART:20251102T060000
END:STANDARD
END:VTIMEZONE
BEGIN:VEVENT
DTSTART;VALUE=DATE:20241107
DTEND;VALUE=DATE:20241108
DTSTAMP:20260425T225751
CREATED:20241015T192136Z
LAST-MODIFIED:20241015T192136Z
UID:10013316-1730937600-1731023999@islamiclaw.blog
SUMMARY:Workshop: "Sites of Encounter in the Muslim World: Cairo & Delhi\," UCLA Center for Near Eastern Studies\, November 7\, 2024
DESCRIPTION:Applications now are being accepted for the fourth annual Digital Medieval Studies Institutes\, organized by Dr. Laura Morreale and Dr. N. Kıvılcım Yavuz. The first will take place on 13 … Continue reading Call for Participation: Digital Medieval Studies Institute\, International Medieval Congress\, Leeds\, UK\, July 10\, 2026
URL:https://islamiclaw.blog/event/workshop-sites-of-encounter-in-the-muslim-world-cairo-delhi-ucla-center-for-near-eastern-studies-november-7-2024/
CATEGORIES:Due dates,Fellowships,Opportunities,Programs
END:VEVENT
BEGIN:VEVENT
DTSTART;VALUE=DATE:20241107
DTEND;VALUE=DATE:20241108
DTSTAMP:20260425T225751
CREATED:20241031T155249Z
LAST-MODIFIED:20241031T155249Z
UID:10013354-1730937600-1731023999@islamiclaw.blog
SUMMARY:Symposium: Recent Developments in Family Law in the MENA Region\, Dutch Association for the Study of Islamic Law and Law of the Middle East\, November 7\, 2024
DESCRIPTION:Applications now are being accepted for the fourth annual Digital Medieval Studies Institutes\, organized by Dr. Laura Morreale and Dr. N. Kıvılcım Yavuz. The first will take place on 13 … Continue reading Call for Participation: Digital Medieval Studies Institute\, International Medieval Congress\, Leeds\, UK\, July 10\, 2026
URL:https://islamiclaw.blog/event/symposium-recent-developments-in-family-law-in-the-mena-region-dutch-association-for-the-study-of-islamic-law-and-law-of-the-middle-east-november-7-2024/
CATEGORIES:conferences and workshops,lectures and talks
END:VEVENT
BEGIN:VEVENT
DTSTART;VALUE=DATE:20241108
DTEND;VALUE=DATE:20241110
DTSTAMP:20260425T225751
CREATED:20241023T134627Z
LAST-MODIFIED:20241023T135843Z
UID:10013341-1731024000-1731196799@islamiclaw.blog
SUMMARY:Conference: "Perspectives on the Development of Islamic Law: Philosophy of Law & Islamic Medical Ethics\," Humbold University\, Berlin\, November 8-9\, 2024
DESCRIPTION:Applications now are being accepted for the fourth annual Digital Medieval Studies Institutes\, organized by Dr. Laura Morreale and Dr. N. Kıvılcım Yavuz. The first will take place on 13 … Continue reading Call for Participation: Digital Medieval Studies Institute\, International Medieval Congress\, Leeds\, UK\, July 10\, 2026
URL:https://islamiclaw.blog/event/conference-perspectives-on-the-development-of-islamic-law-philosophy-of-law-islamic-medical-ethics/
CATEGORIES:conferences and workshops
END:VEVENT
BEGIN:VEVENT
DTSTART;TZID=America/New_York:20241108T143000
DTEND;TZID=America/New_York:20241108T163000
DTSTAMP:20260425T225751
CREATED:20241030T173818Z
LAST-MODIFIED:20241030T173818Z
UID:10013348-1731076200-1731083400@islamiclaw.blog
SUMMARY:Workshop: Library Resources for Scholars of Islamic Studies\, Alwaleed bin Talal Islamic Studies Program at Harvard University\, November 8\, 2024 @ 2:30 - 4:30 pm
DESCRIPTION:Applications now are being accepted for the fourth annual Digital Medieval Studies Institutes\, organized by Dr. Laura Morreale and Dr. N. Kıvılcım Yavuz. The first will take place on 13 … Continue reading Call for Participation: Digital Medieval Studies Institute\, International Medieval Congress\, Leeds\, UK\, July 10\, 2026
URL:https://islamiclaw.blog/event/workshop-library-resources-for-scholars-of-islamic-studies-alwaleed-bin-talal-islamic-studies-program-at-harvard-university-november-8-2024-230-430-pm/
CATEGORIES:conferences and workshops,digital humanities,Harvard Events,lectures and talks,PIL events,SHARIAsource events
ATTACH;FMTTYPE=image/jpeg:https://islamiclaw.blog/wp-content/uploads/2024/10/4aceec86-7568-a63b-b68f-af6ed0cb18dc.jpg
END:VEVENT
BEGIN:VEVENT
DTSTART;TZID=America/New_York:20241108T150000
DTEND;TZID=America/New_York:20241108T170000
DTSTAMP:20260425T225751
CREATED:20241015T192420Z
LAST-MODIFIED:20241015T192420Z
UID:10013317-1731078000-1731085200@islamiclaw.blog
SUMMARY:Panel: "The Legacies of Anti-colonial Struggle in Algeria: A Panel Honoring the Life and Activism of Elaine Mokhtefi\," UCLA Center for Near Eastern Studies\, November 8\, 2024 @ 3:00 pm
DESCRIPTION:Applications now are being accepted for the fourth annual Digital Medieval Studies Institutes\, organized by Dr. Laura Morreale and Dr. N. Kıvılcım Yavuz. The first will take place on 13 … Continue reading Call for Participation: Digital Medieval Studies Institute\, International Medieval Congress\, Leeds\, UK\, July 10\, 2026
URL:https://islamiclaw.blog/event/panel-the-legacies-of-anti-colonial-struggle-in-algeria-a-panel-honoring-the-life-and-activism-of-elaine-mokhtefi-ucla-center-for-near-eastern-studies-november-8-2024-300-pm/
CATEGORIES:conferences and workshops,lectures and talks
END:VEVENT
BEGIN:VEVENT
DTSTART;VALUE=DATE:20241112
DTEND;VALUE=DATE:20241113
DTSTAMP:20260425T225751
CREATED:20241023T135437Z
LAST-MODIFIED:20241023T135437Z
UID:10013343-1731369600-1731455999@islamiclaw.blog
SUMMARY:Conference: 2024 CILIS Islamic Studies Postgraduate Conference\, Melbourne Law School\, November 12\, 2024
DESCRIPTION:Applications now are being accepted for the fourth annual Digital Medieval Studies Institutes\, organized by Dr. Laura Morreale and Dr. N. Kıvılcım Yavuz. The first will take place on 13 … Continue reading Call for Participation: Digital Medieval Studies Institute\, International Medieval Congress\, Leeds\, UK\, July 10\, 2026
URL:https://islamiclaw.blog/event/conference-2024-cilis-islamic-studies-postgraduate-conference-melbourne-law-school-november-12-2024/
CATEGORIES:conferences and workshops
END:VEVENT
BEGIN:VEVENT
DTSTART;TZID=America/New_York:20241112T123000
DTEND;TZID=America/New_York:20241112T133000
DTSTAMP:20260425T225751
CREATED:20241015T194849Z
LAST-MODIFIED:20241015T194849Z
UID:10013328-1731414600-1731418200@islamiclaw.blog
SUMMARY:Islamic Law Speaker Series: “Islamic Apocalyptic Jurisprudence: End-Times Law in Sunnī and Shīʿī Discourses” by Ali Rod Khadem\, Program in Islamic Law\, November 12\, 2024 @ 12:30 pm - 1:30 pm
DESCRIPTION:Applications now are being accepted for the fourth annual Digital Medieval Studies Institutes\, organized by Dr. Laura Morreale and Dr. N. Kıvılcım Yavuz. The first will take place on 13 … Continue reading Call for Participation: Digital Medieval Studies Institute\, International Medieval Congress\, Leeds\, UK\, July 10\, 2026
URL:https://islamiclaw.blog/event/islamic-law-speaker-series-islamic-apocalyptic-jurisprudence-end-times-law-in-sunni-and-shi%ca%bfi-discourses-by-ali-rod-khadem-program-in-islamic-law-november-12-2024-1230-p/
CATEGORIES:Harvard Events,lectures and talks
END:VEVENT
BEGIN:VEVENT
DTSTART;VALUE=DATE:20241114
DTEND;VALUE=DATE:20241115
DTSTAMP:20260425T225751
CREATED:20241031T155121Z
LAST-MODIFIED:20241031T155121Z
UID:10013353-1731542400-1731628799@islamiclaw.blog
SUMMARY:Position opening: University assistant predoctoral researcher\, University of Vienna\, November 14\, 2024
DESCRIPTION:Applications now are being accepted for the fourth annual Digital Medieval Studies Institutes\, organized by Dr. Laura Morreale and Dr. N. Kıvılcım Yavuz. The first will take place on 13 … Continue reading Call for Participation: Digital Medieval Studies Institute\, International Medieval Congress\, Leeds\, UK\, July 10\, 2026
URL:https://islamiclaw.blog/event/position-opening-university-assistant-predoctoral-researcher-university-of-vienna-november-14-2024/
CATEGORIES:Applications,Due dates,Opportunities
END:VEVENT
BEGIN:VEVENT
DTSTART;TZID=America/New_York:20241114T173000
DTEND;TZID=America/New_York:20241114T183000
DTSTAMP:20260425T225751
CREATED:20241031T161725Z
LAST-MODIFIED:20241031T161725Z
UID:10013355-1731605400-1731609000@islamiclaw.blog
SUMMARY:Lecture: Fall 2024 Lester Lecture: "Polyvalence\, Ambiguity and the Politics of Islamic Studies" with  Dr. Marion Katz\, University of Colorado Boulder\, November 14\, 2024 @ 5:30 pm
DESCRIPTION:Applications now are being accepted for the fourth annual Digital Medieval Studies Institutes\, organized by Dr. Laura Morreale and Dr. N. Kıvılcım Yavuz. The first will take place on 13 … Continue reading Call for Participation: Digital Medieval Studies Institute\, International Medieval Congress\, Leeds\, UK\, July 10\, 2026
URL:https://islamiclaw.blog/event/lecture-fall-2024-lester-lecture-polyvalence-ambiguity-and-the-politics-of-islamic-studies-with-dr-marion-katz-university-of-colorado-boulder-november-14-2024-530-pm/
CATEGORIES:lectures and talks
END:VEVENT
BEGIN:VEVENT
DTSTART;VALUE=DATE:20241115
DTEND;VALUE=DATE:20241116
DTSTAMP:20260425T225751
CREATED:20241017T165611Z
LAST-MODIFIED:20241017T165611Z
UID:10013337-1731628800-1731715199@islamiclaw.blog
SUMMARY:Position opening: Associate/Full Professor – Islamic/Middle Eastern Studies\, UMass Amherst\, November 15\, 2024
DESCRIPTION:Applications now are being accepted for the fourth annual Digital Medieval Studies Institutes\, organized by Dr. Laura Morreale and Dr. N. Kıvılcım Yavuz. The first will take place on 13 … Continue reading Call for Participation: Digital Medieval Studies Institute\, International Medieval Congress\, Leeds\, UK\, July 10\, 2026
URL:https://islamiclaw.blog/event/position-opening-associate-full-professor-islamic-middle-eastern-studies-umass-amherst-november-15-2024/
CATEGORIES:Applications,Due dates,Opportunities
END:VEVENT
BEGIN:VEVENT
DTSTART;VALUE=DATE:20241115
DTEND;VALUE=DATE:20241116
DTSTAMP:20260425T225751
CREATED:20241029T194224Z
LAST-MODIFIED:20241029T194224Z
UID:10013347-1731628800-1731715199@islamiclaw.blog
SUMMARY:Position opening: Senior Lecturer in Law\, History\, and Society\, Vanderbilt University\, 2025
DESCRIPTION:Applications now are being accepted for the fourth annual Digital Medieval Studies Institutes\, organized by Dr. Laura Morreale and Dr. N. Kıvılcım Yavuz. The first will take place on 13 … Continue reading Call for Participation: Digital Medieval Studies Institute\, International Medieval Congress\, Leeds\, UK\, July 10\, 2026
URL:https://islamiclaw.blog/event/position-opening-senior-lecturer-in-law-history-and-society-vanderbilt-university-2025/
CATEGORIES:Due dates,Opportunities
END:VEVENT
BEGIN:VEVENT
DTSTART;TZID=America/New_York:20241120T110000
DTEND;TZID=America/New_York:20241120T123000
DTSTAMP:20260425T225751
CREATED:20241015T191220Z
LAST-MODIFIED:20241015T191220Z
UID:10013312-1732100400-1732105800@islamiclaw.blog
SUMMARY:EUME Berliner Seminar: "Law\, Litigation\, and Politics of Legitimization: On the Possibilities and Limits of Palestinian Legal Action in Israel" by Suhad Bishara\, November 20\, 2024 @ 11 am - 12:30 pm
DESCRIPTION:Applications now are being accepted for the fourth annual Digital Medieval Studies Institutes\, organized by Dr. Laura Morreale and Dr. N. Kıvılcım Yavuz. The first will take place on 13 … Continue reading Call for Participation: Digital Medieval Studies Institute\, International Medieval Congress\, Leeds\, UK\, July 10\, 2026
URL:https://islamiclaw.blog/event/eume-berliner-seminar-law-litigation-and-politics-of-legitimization-on-the-possibilities-and-limits-of-palestinian-legal-action-in-israel-by-suhad-bishara-november-20-2024-11-am-1230-pm/
CATEGORIES:lectures and talks
END:VEVENT
BEGIN:VEVENT
DTSTART;VALUE=DATE:20241121
DTEND;VALUE=DATE:20241122
DTSTAMP:20260425T225751
CREATED:20241015T204306Z
LAST-MODIFIED:20241015T204306Z
UID:10013333-1732147200-1732233599@islamiclaw.blog
SUMMARY:Conference: The Islamicate Digital Humanities Network (IDHN) Conference\, November 21\, 2024 (Deadline for abstract submissions: October 27\, 2024)
DESCRIPTION:Applications now are being accepted for the fourth annual Digital Medieval Studies Institutes\, organized by Dr. Laura Morreale and Dr. N. Kıvılcım Yavuz. The first will take place on 13 … Continue reading Call for Participation: Digital Medieval Studies Institute\, International Medieval Congress\, Leeds\, UK\, July 10\, 2026
URL:https://islamiclaw.blog/event/conference-the-islamicate-digital-humanities-network-idhn-conference-november-21-2024-deadline-for-abstract-submissions-october-27-2024/
CATEGORIES:conferences and workshops,digital humanities,Due dates,Opportunities
END:VEVENT
BEGIN:VEVENT
DTSTART;VALUE=DATE:20241122
DTEND;VALUE=DATE:20241123
DTSTAMP:20260425T225751
CREATED:20241015T192624Z
LAST-MODIFIED:20241015T192624Z
UID:10013318-1732233600-1732319999@islamiclaw.blog
SUMMARY:Book Roundtable: "Order and Disorder in the Ottoman Empire\," UCLA Center for Near Eastern Studies\, November 22\, 2024
DESCRIPTION:Applications now are being accepted for the fourth annual Digital Medieval Studies Institutes\, organized by Dr. Laura Morreale and Dr. N. Kıvılcım Yavuz. The first will take place on 13 … Continue reading Call for Participation: Digital Medieval Studies Institute\, International Medieval Congress\, Leeds\, UK\, July 10\, 2026
URL:https://islamiclaw.blog/event/book-roundtable-order-and-disorder-in-the-ottoman-empire-ucla-center-for-near-eastern-studies-november-22-2024/
CATEGORIES:conferences and workshops
END:VEVENT
BEGIN:VEVENT
DTSTART;VALUE=DATE:20241130
DTEND;VALUE=DATE:20241201
DTSTAMP:20260425T225751
CREATED:20241015T193109Z
LAST-MODIFIED:20241015T193109Z
UID:10013320-1732924800-1733011199@islamiclaw.blog
SUMMARY:Fellowship: Abdallah S. Kamel Center for the Study of Islamic Law and Civilization\, 2025-2026\, Yale Law School (Deadline: November 30\, 2024)
DESCRIPTION:Applications now are being accepted for the fourth annual Digital Medieval Studies Institutes\, organized by Dr. Laura Morreale and Dr. N. Kıvılcım Yavuz. The first will take place on 13 … Continue reading Call for Participation: Digital Medieval Studies Institute\, International Medieval Congress\, Leeds\, UK\, July 10\, 2026
URL:https://islamiclaw.blog/event/fellowship-abdallah-s-kamel-center-for-the-study-of-islamic-law-and-civilization-2025-2026-yale-law-school-deadline-november-30-2024/
CATEGORIES:Applications,Due dates,Fellowships,Opportunities
END:VEVENT
BEGIN:VEVENT
DTSTART;VALUE=DATE:20241202
DTEND;VALUE=DATE:20241205
DTSTAMP:20260425T225751
CREATED:20241023T135709Z
LAST-MODIFIED:20241023T135709Z
UID:10013344-1733097600-1733356799@islamiclaw.blog
SUMMARY:Conference: 12th Global Islamic Microfinance Forum\, Jeddah\, Saudi Arabia\, December 2-4\, 2024
DESCRIPTION:Applications now are being accepted for the fourth annual Digital Medieval Studies Institutes\, organized by Dr. Laura Morreale and Dr. N. Kıvılcım Yavuz. The first will take place on 13 … Continue reading Call for Participation: Digital Medieval Studies Institute\, International Medieval Congress\, Leeds\, UK\, July 10\, 2026
URL:https://islamiclaw.blog/event/conference-12th-global-islamic-microfinance-forum-jeddah-saudi-arabia-december-2-4-2024/
CATEGORIES:conferences and workshops
END:VEVENT
BEGIN:VEVENT
DTSTART;VALUE=DATE:20241209
DTEND;VALUE=DATE:20241210
DTSTAMP:20260425T225751
CREATED:20241030T175855Z
LAST-MODIFIED:20241030T175855Z
UID:10013351-1733702400-1733788799@islamiclaw.blog
SUMMARY:Fellowship: M. C. Lang Fellowship in Book History\, Bibliography\, and Humanities Teaching with Historical Sources\, Rare Book School\, 2025-2026\, December 9\, 2024
DESCRIPTION:Applications now are being accepted for the fourth annual Digital Medieval Studies Institutes\, organized by Dr. Laura Morreale and Dr. N. Kıvılcım Yavuz. The first will take place on 13 … Continue reading Call for Participation: Digital Medieval Studies Institute\, International Medieval Congress\, Leeds\, UK\, July 10\, 2026
URL:https://islamiclaw.blog/event/fellowship-m-c-lang-fellowship-in-book-history-bibliography-and-humanities-teaching-with-historical-sources-rare-book-school-2025-2026-december-9-2024/
CATEGORIES:Applications,Due dates,Fellowships,Opportunities
END:VEVENT
BEGIN:VEVENT
DTSTART;TZID=America/New_York:20241210T120000
DTEND;TZID=America/New_York:20241210T130000
DTSTAMP:20260425T225751
CREATED:20241202T200909Z
LAST-MODIFIED:20241202T200909Z
UID:10013363-1733832000-1733835600@islamiclaw.blog
SUMMARY:Virtual Seminar: "International Norms and Islamic Principles: Exploring Commonalities for Peacebuilding\," Harvard Law School\, December 10\, 2024 @ 12:00 - 1:00 pm
DESCRIPTION:Applications now are being accepted for the fourth annual Digital Medieval Studies Institutes\, organized by Dr. Laura Morreale and Dr. N. Kıvılcım Yavuz. The first will take place on 13 … Continue reading Call for Participation: Digital Medieval Studies Institute\, International Medieval Congress\, Leeds\, UK\, July 10\, 2026
URL:https://islamiclaw.blog/event/virtual-seminar-international-norms-and-islamic-principles-exploring-commonalities-for-peacebuilding-harvard-law-school-december-10-2024-1200-100-pm/
CATEGORIES:conferences and workshops,Harvard Events,lectures and talks
END:VEVENT
BEGIN:VEVENT
DTSTART;TZID=America/New_York:20241210T123000
DTEND;TZID=America/New_York:20241210T133000
DTSTAMP:20260425T225751
CREATED:20241015T194646Z
LAST-MODIFIED:20241015T194646Z
UID:10013327-1733833800-1733837400@islamiclaw.blog
SUMMARY:Islamic Law Speaker Series: "On Theocratic Criminal Law: The Rule of Religion and Punishment in Iran\," Bahman Khodadadi\, Program in Islamic Law\, December 10\, 2024 @ 12:30 - 1:30 pm
DESCRIPTION:Applications now are being accepted for the fourth annual Digital Medieval Studies Institutes\, organized by Dr. Laura Morreale and Dr. N. Kıvılcım Yavuz. The first will take place on 13 … Continue reading Call for Participation: Digital Medieval Studies Institute\, International Medieval Congress\, Leeds\, UK\, July 10\, 2026
URL:https://islamiclaw.blog/event/islamic-law-speaker-series-on-theocratic-criminal-law-the-rule-of-religion-and-punishment-in-iran-bahman-khodadadi-program-in-islamic-law-december-10-2024-1230-130-pm/
CATEGORIES:Harvard Events,lectures and talks
END:VEVENT
BEGIN:VEVENT
DTSTART;VALUE=DATE:20241231
DTEND;VALUE=DATE:20250101
DTSTAMP:20260425T225751
CREATED:20241015T204809Z
LAST-MODIFIED:20241015T204809Z
UID:10013334-1735603200-1735689599@islamiclaw.blog
SUMMARY:Post-Doctoral Fellowships: National University of Singapore\, August 2025 - July 2026\, December 31\, 2024
DESCRIPTION:Applications now are being accepted for the fourth annual Digital Medieval Studies Institutes\, organized by Dr. Laura Morreale and Dr. N. Kıvılcım Yavuz. The first will take place on 13 … Continue reading Call for Participation: Digital Medieval Studies Institute\, International Medieval Congress\, Leeds\, UK\, July 10\, 2026
URL:https://islamiclaw.blog/event/post-doctoral-fellowships-national-university-of-singapore-august-2025-july-2026-december-31-2024/
CATEGORIES:Applications,Due dates,Fellowships,Opportunities
END:VEVENT
BEGIN:VEVENT
DTSTART;VALUE=DATE:20250107
DTEND;VALUE=DATE:20250112
DTSTAMP:20260425T225751
CREATED:20241223T212722Z
LAST-MODIFIED:20241223T212722Z
UID:10013364-1736208000-1736639999@islamiclaw.blog
SUMMARY:2025 Association of American Law Schools (AALS) Annual Meeting\, San Francisco\, January 7-11\, 2025
DESCRIPTION:Applications now are being accepted for the fourth annual Digital Medieval Studies Institutes\, organized by Dr. Laura Morreale and Dr. N. Kıvılcım Yavuz. The first will take place on 13 … Continue reading Call for Participation: Digital Medieval Studies Institute\, International Medieval Congress\, Leeds\, UK\, July 10\, 2026
URL:https://islamiclaw.blog/event/2025-association-of-american-law-schools-aals-annual-meeting-san-francisco-january-7-11-2025/
CATEGORIES:conferences and workshops
END:VEVENT
BEGIN:VEVENT
DTSTART;VALUE=DATE:20250113
DTEND;VALUE=DATE:20250114
DTSTAMP:20260425T225751
CREATED:20240920T144919Z
LAST-MODIFIED:20240920T144919Z
UID:10013305-1736726400-1736812799@islamiclaw.blog
SUMMARY:Call for Submissions: Journal of Islamic Law Special Issue\, January 13\, 2025
DESCRIPTION:Applications now are being accepted for the fourth annual Digital Medieval Studies Institutes\, organized by Dr. Laura Morreale and Dr. N. Kıvılcım Yavuz. The first will take place on 13 … Continue reading Call for Participation: Digital Medieval Studies Institute\, International Medieval Congress\, Leeds\, UK\, July 10\, 2026
URL:https://islamiclaw.blog/event/call-for-submissions-journal-of-islamic-law-special-issue-january-13-2025/
CATEGORIES:Applications,Call for papers,Due dates,Harvard Events,Opportunities,PIL events
END:VEVENT
BEGIN:VEVENT
DTSTART;VALUE=DATE:20250115
DTEND;VALUE=DATE:20250116
DTSTAMP:20260425T225751
CREATED:20241103T003059Z
LAST-MODIFIED:20241103T003059Z
UID:10013357-1736899200-1736985599@islamiclaw.blog
SUMMARY:Hurst Summer Institute 2025\, University of Wisconsin-Madison Law School\, January 15\, 2025
DESCRIPTION:Applications now are being accepted for the fourth annual Digital Medieval Studies Institutes\, organized by Dr. Laura Morreale and Dr. N. Kıvılcım Yavuz. The first will take place on 13 … Continue reading Call for Participation: Digital Medieval Studies Institute\, International Medieval Congress\, Leeds\, UK\, July 10\, 2026
URL:https://islamiclaw.blog/event/hurst-summer-institute-2025-university-of-wisconsin-madison-law-school-january-15-2025/
CATEGORIES:Applications,Due dates,Opportunities
END:VEVENT
BEGIN:VEVENT
DTSTART;VALUE=DATE:20250115
DTEND;VALUE=DATE:20250116
DTSTAMP:20260425T225751
CREATED:20250110T164417Z
LAST-MODIFIED:20250110T164417Z
UID:10013368-1736899200-1736985599@islamiclaw.blog
SUMMARY:Summer Internship: The Cyberlaw Clinic\, Harvard University\, January 15\, 2025
DESCRIPTION:Applications now are being accepted for the fourth annual Digital Medieval Studies Institutes\, organized by Dr. Laura Morreale and Dr. N. Kıvılcım Yavuz. The first will take place on 13 … Continue reading Call for Participation: Digital Medieval Studies Institute\, International Medieval Congress\, Leeds\, UK\, July 10\, 2026
URL:https://islamiclaw.blog/event/summer-internship-the-cyberlaw-clinic-harvard-university-january-15-2025/
CATEGORIES:Applications,courses,Due dates,Harvard Events,Opportunities
END:VEVENT
BEGIN:VEVENT
DTSTART;VALUE=DATE:20250122
DTEND;VALUE=DATE:20250123
DTSTAMP:20260425T225751
CREATED:20241031T154831Z
LAST-MODIFIED:20241031T154831Z
UID:10013352-1737504000-1737590399@islamiclaw.blog
SUMMARY:Fellowship: The University Center for Human Values in Law and Normative Thinking 2025-26\, Princeton University\, January 22\, 2025
DESCRIPTION:Applications now are being accepted for the fourth annual Digital Medieval Studies Institutes\, organized by Dr. Laura Morreale and Dr. N. Kıvılcım Yavuz. The first will take place on 13 … Continue reading Call for Participation: Digital Medieval Studies Institute\, International Medieval Congress\, Leeds\, UK\, July 10\, 2026
URL:https://islamiclaw.blog/event/fellowship-the-university-center-for-human-values-in-law-and-normative-thinking-2025-26-princeton-university-january-22-2025/
CATEGORIES:Applications,Due dates,Fellowships,Opportunities
END:VEVENT
BEGIN:VEVENT
DTSTART;TZID=America/New_York:20250122T110000
DTEND;TZID=America/New_York:20250122T123000
DTSTAMP:20260425T225751
CREATED:20241015T191406Z
LAST-MODIFIED:20241015T191406Z
UID:10013313-1737543600-1737549000@islamiclaw.blog
SUMMARY:EUME Berliner Seminar: "The Politics of Choice: The 2003 Entry Law to Israel\, the Phenomenology of Singlehood and Love Across Borders Among Palestinians" by Towibah Majdub\, January 22\, 2025 @ 11 am - 12:30 pm
DESCRIPTION:Applications now are being accepted for the fourth annual Digital Medieval Studies Institutes\, organized by Dr. Laura Morreale and Dr. N. Kıvılcım Yavuz. The first will take place on 13 … Continue reading Call for Participation: Digital Medieval Studies Institute\, International Medieval Congress\, Leeds\, UK\, July 10\, 2026
URL:https://islamiclaw.blog/event/eume-berliner-seminar-the-politics-of-choice-the-2003-entry-law-to-israel-the-phenomenology-of-singlehood-and-love-across-borders-among-palestinians-by-towibah-majdub-january-22-2025-11-am/
CATEGORIES:lectures and talks
END:VEVENT
BEGIN:VEVENT
DTSTART;VALUE=DATE:20250124
DTEND;VALUE=DATE:20250125
DTSTAMP:20260425T225751
CREATED:20241112T175130Z
LAST-MODIFIED:20241112T175130Z
UID:10013358-1737676800-1737763199@islamiclaw.blog
SUMMARY:BRAIS Prize 2025: Call for Submissions\, January 24\, 2025
DESCRIPTION:Applications now are being accepted for the fourth annual Digital Medieval Studies Institutes\, organized by Dr. Laura Morreale and Dr. N. Kıvılcım Yavuz. The first will take place on 13 … Continue reading Call for Participation: Digital Medieval Studies Institute\, International Medieval Congress\, Leeds\, UK\, July 10\, 2026
URL:https://islamiclaw.blog/event/brais-prize-2025-call-for-submissions-january-24-2025/
CATEGORIES:Applications,Due dates,Opportunities,prizes and nominations
END:VEVENT
BEGIN:VEVENT
DTSTART;TZID=America/New_York:20250127T120000
DTEND;TZID=America/New_York:20250127T132000
DTSTAMP:20260425T225751
CREATED:20250125T191846Z
LAST-MODIFIED:20250125T191846Z
UID:10013373-1737979200-1737984000@islamiclaw.blog
SUMMARY:Seminar: "An Eastern Gaze: The Making of an Islamic Archive in Early Modern China" with Dror Weil\, Princeton University\, January 27\, 2025 @ 12:00 - 1:20 PM
DESCRIPTION:Applications now are being accepted for the fourth annual Digital Medieval Studies Institutes\, organized by Dr. Laura Morreale and Dr. N. Kıvılcım Yavuz. The first will take place on 13 … Continue reading Call for Participation: Digital Medieval Studies Institute\, International Medieval Congress\, Leeds\, UK\, July 10\, 2026
URL:https://islamiclaw.blog/event/seminar-an-eastern-gaze-the-making-of-an-islamic-archive-in-early-modern-china-with-dror-weil-princeton-university-january-27-2025-1200-120-pm/
CATEGORIES:conferences and workshops,events in Islamic legal studies,lectures and talks
ATTACH;FMTTYPE=application/pdf:https://islamiclaw.blog/wp-content/uploads/2025/01/250127_Weil_Flyer.pdf
END:VEVENT
BEGIN:VEVENT
DTSTART;VALUE=DATE:20250201
DTEND;VALUE=DATE:20250202
DTSTAMP:20260425T225751
CREATED:20241017T154022Z
LAST-MODIFIED:20241017T154022Z
UID:10013335-1738368000-1738454399@islamiclaw.blog
SUMMARY:Call for Editors: Law & Society Review\, 2025-2026\, February 1\, 2025
DESCRIPTION:Applications now are being accepted for the fourth annual Digital Medieval Studies Institutes\, organized by Dr. Laura Morreale and Dr. N. Kıvılcım Yavuz. The first will take place on 13 … Continue reading Call for Participation: Digital Medieval Studies Institute\, International Medieval Congress\, Leeds\, UK\, July 10\, 2026
URL:https://islamiclaw.blog/event/call-for-editors-law-society-review-2025-2026-february-1-2025/
CATEGORIES:Applications,Due dates,Opportunities
END:VEVENT
BEGIN:VEVENT
DTSTART;VALUE=DATE:20250201
DTEND;VALUE=DATE:20250202
DTSTAMP:20260425T225751
CREATED:20241017T154157Z
LAST-MODIFIED:20241017T154157Z
UID:10013336-1738368000-1738454399@islamiclaw.blog
SUMMARY:Call for Editors: Book Review Editor for Law & Society Review\, 2025-2026\, February 1\, 2025
DESCRIPTION:Applications now are being accepted for the fourth annual Digital Medieval Studies Institutes\, organized by Dr. Laura Morreale and Dr. N. Kıvılcım Yavuz. The first will take place on 13 … Continue reading Call for Participation: Digital Medieval Studies Institute\, International Medieval Congress\, Leeds\, UK\, July 10\, 2026
URL:https://islamiclaw.blog/event/call-for-editors-book-review-editor-for-law-society-review-2025-2026-february-1-2025/
CATEGORIES:Applications,Due dates,Opportunities
END:VEVENT
END:VCALENDAR