BEGIN:VCALENDAR
VERSION:2.0
PRODID:-//Islamic Law Blog - ECPv6.7.0//NONSGML v1.0//EN
CALSCALE:GREGORIAN
METHOD:PUBLISH
X-ORIGINAL-URL:https://islamiclaw.blog
X-WR-CALDESC:Events for Islamic Law Blog
REFRESH-INTERVAL;VALUE=DURATION:PT1H
X-Robots-Tag:noindex
X-PUBLISHED-TTL:PT1H
BEGIN:VTIMEZONE
TZID:America/New_York
BEGIN:DAYLIGHT
TZOFFSETFROM:-0500
TZOFFSETTO:-0400
TZNAME:EDT
DTSTART:20260308T070000
END:DAYLIGHT
BEGIN:STANDARD
TZOFFSETFROM:-0400
TZOFFSETTO:-0500
TZNAME:EST
DTSTART:20261101T060000
END:STANDARD
END:VTIMEZONE
BEGIN:VEVENT
DTSTART;VALUE=DATE:20260204
DTEND;VALUE=DATE:20260306
DTSTAMP:20260422T181707
CREATED:20260108T022139Z
LAST-MODIFIED:20260108T022139Z
UID:10013471-1770163200-1772755199@islamiclaw.blog
SUMMARY:Conference: AI Methodologies and Applications in Middle Eastern and Islamic World Studies\, Kuwait University\, February 4–5\, 2026
DESCRIPTION:From the organizers: As part of the Association for Gulf and Arabian Peninsula Studies' (AGAPS) commitment to support graduate students\, we are pleased to open applications for this year’s graduate travel fund award. If you are an MA or PhD student working on the region and your paper is accepted to the 2026 MESA conference\, … Continue reading Award: Student Travel Award\, Association for Gulf and Arabian Peninsula Studies\, September 1\, 2026
URL:https://islamiclaw.blog/event/conference-ai-methodologies-and-applications-in-middle-eastern-and-islamic-world-studies-kuwait-university-february-4-5-2026/
CATEGORIES:conferences and workshops
END:VEVENT
BEGIN:VEVENT
DTSTART;VALUE=DATE:20260301
DTEND;VALUE=DATE:20260302
DTSTAMP:20260422T181707
CREATED:20260122T214038Z
LAST-MODIFIED:20260122T214038Z
UID:10013484-1772323200-1772409599@islamiclaw.blog
SUMMARY:Call for Applications: Orient-Institut Beirut Residential Postdoctoral Fellowship\, March 1\, 2026
DESCRIPTION:From the organizers: As part of the Association for Gulf and Arabian Peninsula Studies' (AGAPS) commitment to support graduate students\, we are pleased to open applications for this year’s graduate travel fund award. If you are an MA or PhD student working on the region and your paper is accepted to the 2026 MESA conference\, … Continue reading Award: Student Travel Award\, Association for Gulf and Arabian Peninsula Studies\, September 1\, 2026
URL:https://islamiclaw.blog/event/call-for-applications-orient-institut-beirut-residential-postdoctoral-fellowship-march-1-2026/
CATEGORIES:Due dates,Fellowships,Opportunities
END:VEVENT
BEGIN:VEVENT
DTSTART;VALUE=DATE:20260301
DTEND;VALUE=DATE:20260302
DTSTAMP:20260422T181707
CREATED:20260227T002659Z
LAST-MODIFIED:20260227T002659Z
UID:10013496-1772323200-1772409599@islamiclaw.blog
SUMMARY:Call for Contributions: Middle East Medievalists Newsletter\, March 1\, 2026
DESCRIPTION:From the organizers: As part of the Association for Gulf and Arabian Peninsula Studies' (AGAPS) commitment to support graduate students\, we are pleased to open applications for this year’s graduate travel fund award. If you are an MA or PhD student working on the region and your paper is accepted to the 2026 MESA conference\, … Continue reading Award: Student Travel Award\, Association for Gulf and Arabian Peninsula Studies\, September 1\, 2026
URL:https://islamiclaw.blog/event/call-for-contributions-middle-east-medievalists-newsletter-march-1-2026/
CATEGORIES:Due dates,Opportunities
END:VEVENT
BEGIN:VEVENT
DTSTART;VALUE=DATE:20260301
DTEND;VALUE=DATE:20260302
DTSTAMP:20260422T181707
CREATED:20260227T002851Z
LAST-MODIFIED:20260227T002851Z
UID:10013497-1772323200-1772409599@islamiclaw.blog
SUMMARY:Call for Nominations: American Society of Comparative Law Book Prize\, March 1\, 2026
DESCRIPTION:From the organizers: As part of the Association for Gulf and Arabian Peninsula Studies' (AGAPS) commitment to support graduate students\, we are pleased to open applications for this year’s graduate travel fund award. If you are an MA or PhD student working on the region and your paper is accepted to the 2026 MESA conference\, … Continue reading Award: Student Travel Award\, Association for Gulf and Arabian Peninsula Studies\, September 1\, 2026
URL:https://islamiclaw.blog/event/call-for-nominations-american-society-of-comparative-law-book-prize-march-1-2026/
CATEGORIES:Due dates,Opportunities
END:VEVENT
BEGIN:VEVENT
DTSTART;VALUE=DATE:20260302
DTEND;VALUE=DATE:20260303
DTSTAMP:20260422T181707
CREATED:20260227T003338Z
LAST-MODIFIED:20260227T003757Z
UID:10013498-1772409600-1772495999@islamiclaw.blog
SUMMARY:Presentation: Lutforahman Saeed—God's Law\, Man's Rule: Debating Women's Right to Health from Sacred Texts to the Taliban\, March 2\, 2026
DESCRIPTION:From the organizers: As part of the Association for Gulf and Arabian Peninsula Studies' (AGAPS) commitment to support graduate students\, we are pleased to open applications for this year’s graduate travel fund award. If you are an MA or PhD student working on the region and your paper is accepted to the 2026 MESA conference\, … Continue reading Award: Student Travel Award\, Association for Gulf and Arabian Peninsula Studies\, September 1\, 2026
URL:https://islamiclaw.blog/event/presentation-lutforahman-saeed-gods-law-mans-rule-debating-womens-right-to-health-from-sacred-texts-to-the-taliban-march-2-2026/
CATEGORIES:lectures and talks
END:VEVENT
BEGIN:VEVENT
DTSTART;TZID=America/New_York:20260310T123000
DTEND;TZID=America/New_York:20260310T133000
DTSTAMP:20260422T181707
CREATED:20260129T023123Z
LAST-MODIFIED:20260129T023212Z
UID:10013486-1773145800-1773149400@islamiclaw.blog
SUMMARY:Islamic Law Speakers Series: Ihsan Yilmaz (Deakin University)\, "Sharia as Informal Law: Lived Experiences of Young Muslims in Western Societies\," March 10\, 2026 @ 12:30pm
DESCRIPTION:From the organizers: As part of the Association for Gulf and Arabian Peninsula Studies' (AGAPS) commitment to support graduate students\, we are pleased to open applications for this year’s graduate travel fund award. If you are an MA or PhD student working on the region and your paper is accepted to the 2026 MESA conference\, … Continue reading Award: Student Travel Award\, Association for Gulf and Arabian Peninsula Studies\, September 1\, 2026
URL:https://islamiclaw.blog/event/islamic-law-speakers-series-ihsan-yilmaz-deakin-university-sharia-as-informal-law-lived-experiences-of-young-muslims-in-western-societies-march-10-2026-1230pm/
CATEGORIES:PIL events
END:VEVENT
BEGIN:VEVENT
DTSTART;VALUE=DATE:20260319
DTEND;VALUE=DATE:20260322
DTSTAMP:20260422T181707
CREATED:20260110T205830Z
LAST-MODIFIED:20260110T205830Z
UID:10013475-1773878400-1774137599@islamiclaw.blog
SUMMARY:Conference: Annual Meeting of the Medieval Academy of America\, Amherst\, MA\, March 19–21\, 2026
DESCRIPTION:From the organizers: As part of the Association for Gulf and Arabian Peninsula Studies' (AGAPS) commitment to support graduate students\, we are pleased to open applications for this year’s graduate travel fund award. If you are an MA or PhD student working on the region and your paper is accepted to the 2026 MESA conference\, … Continue reading Award: Student Travel Award\, Association for Gulf and Arabian Peninsula Studies\, September 1\, 2026
URL:https://islamiclaw.blog/event/conference-annual-meeting-of-the-medieval-academy-of-america-amherst-ma-march-19-21-2026/
CATEGORIES:conferences and workshops
END:VEVENT
BEGIN:VEVENT
DTSTART;TZID=America/New_York:20260323T181500
DTEND;TZID=America/New_York:20260323T193000
DTSTAMP:20260422T181707
CREATED:20260205T231658Z
LAST-MODIFIED:20260205T231658Z
UID:10013492-1774289700-1774294200@islamiclaw.blog
SUMMARY:Workshop: Middle East Beyond Borders—Cem Turkoz\, “An Edifice of Super-Glosses: The Making of an Ottoman Tradition of Natural Philosophy\, 1650–1800\,” March 23\, 2026 @ 6:15pm
DESCRIPTION:From the organizers: As part of the Association for Gulf and Arabian Peninsula Studies' (AGAPS) commitment to support graduate students\, we are pleased to open applications for this year’s graduate travel fund award. If you are an MA or PhD student working on the region and your paper is accepted to the 2026 MESA conference\, … Continue reading Award: Student Travel Award\, Association for Gulf and Arabian Peninsula Studies\, September 1\, 2026
URL:https://islamiclaw.blog/event/workshop-middle-east-beyond-borders-cem-turkoz-an-edifice-of-super-glosses-the-making-of-an-ottoman-tradition-of-natural-philosophy-1650-1800-march-23-2026-6/
CATEGORIES:conferences and workshops,Harvard Events
END:VEVENT
BEGIN:VEVENT
DTSTART;VALUE=DATE:20260330
DTEND;VALUE=DATE:20260516
DTSTAMP:20260422T181707
CREATED:20260402T181246Z
LAST-MODIFIED:20260402T181611Z
UID:10013507-1774857600-1778864400@islamiclaw.blog
SUMMARY:Award: Alwaleed Bin Talal Doctoral Dissertation Prize\, May 15\, 2026
DESCRIPTION:From the organizers: As part of the Association for Gulf and Arabian Peninsula Studies' (AGAPS) commitment to support graduate students\, we are pleased to open applications for this year’s graduate travel fund award. If you are an MA or PhD student working on the region and your paper is accepted to the 2026 MESA conference\, … Continue reading Award: Student Travel Award\, Association for Gulf and Arabian Peninsula Studies\, September 1\, 2026
URL:https://islamiclaw.blog/event/award-the-alwaleed-bin-talal-doctoral-dissertation-prize-may-15-2026/
CATEGORIES:Due dates,Grants,Opportunities
END:VEVENT
END:VCALENDAR