BEGIN:VCALENDAR
VERSION:2.0
PRODID:-//Islamic Law Blog - ECPv6.7.0//NONSGML v1.0//EN
CALSCALE:GREGORIAN
METHOD:PUBLISH
X-ORIGINAL-URL:https://islamiclaw.blog
X-WR-CALDESC:Events for Islamic Law Blog
REFRESH-INTERVAL;VALUE=DURATION:PT1H
X-Robots-Tag:noindex
X-PUBLISHED-TTL:PT1H
BEGIN:VTIMEZONE
TZID:America/New_York
BEGIN:DAYLIGHT
TZOFFSETFROM:-0500
TZOFFSETTO:-0400
TZNAME:EDT
DTSTART:20240310T070000
END:DAYLIGHT
BEGIN:STANDARD
TZOFFSETFROM:-0400
TZOFFSETTO:-0500
TZNAME:EST
DTSTART:20241103T060000
END:STANDARD
END:VTIMEZONE
BEGIN:VEVENT
DTSTART;VALUE=DATE:20241017
DTEND;VALUE=DATE:20241020
DTSTAMP:20260425T150748
CREATED:20241015T192847Z
LAST-MODIFIED:20241015T192847Z
UID:10013319-1729123200-1729382399@islamiclaw.blog
SUMMARY:2024 Annual Meeting: American Society of Comparative Law\, Texas A&M University School of Law Fort Worth\, Texas\, October 17-19\, 2024
DESCRIPTION:From the organizers: "Welcome to the 2024 Annual Meeting of the American Society of Comparative Law (ASCL)! This event represents the Society's yearly premiere gathering\, and its objective is to give Comparative Law scholars the opportunity to meet and present their cuttingedge work\, share news in the field\, and network with each other. No need … Continue reading 2024 Annual Meeting: American Society of Comparative Law\, Texas A&M University School of Law Fort Worth\, Texas\, October 17-19\, 2024
URL:https://islamiclaw.blog/event/2024-annual-meeting-american-society-of-comparative-law-texas-am-university-school-of-law-fort-worth-texas-october-17-19-2024/
CATEGORIES:conferences and workshops,lectures and talks
END:VEVENT
END:VCALENDAR