BEGIN:VCALENDAR
VERSION:2.0
PRODID:-//Islamic Law Blog - ECPv6.7.0//NONSGML v1.0//EN
CALSCALE:GREGORIAN
METHOD:PUBLISH
X-WR-CALNAME:Islamic Law Blog
X-ORIGINAL-URL:https://islamiclaw.blog
X-WR-CALDESC:Events for Islamic Law Blog
REFRESH-INTERVAL;VALUE=DURATION:PT1H
X-Robots-Tag:noindex
X-PUBLISHED-TTL:PT1H
BEGIN:VTIMEZONE
TZID:America/New_York
BEGIN:DAYLIGHT
TZOFFSETFROM:-0500
TZOFFSETTO:-0400
TZNAME:EDT
DTSTART:20240310T070000
END:DAYLIGHT
BEGIN:STANDARD
TZOFFSETFROM:-0400
TZOFFSETTO:-0500
TZNAME:EST
DTSTART:20241103T060000
END:STANDARD
END:VTIMEZONE
BEGIN:VEVENT
DTSTART;VALUE=DATE:20241115
DTEND;VALUE=DATE:20241116
DTSTAMP:20260425T221306
CREATED:20241017T165611Z
LAST-MODIFIED:20241017T165611Z
UID:10013337-1731628800-1731715199@islamiclaw.blog
SUMMARY:Position opening: Associate/Full Professor – Islamic/Middle Eastern Studies\, UMass Amherst\, November 15\, 2024
DESCRIPTION:Associate/Full Professor – Islamic/Middle Eastern Studies Job no: 525355 Work type: Faculty Full Time Location: UMass Amherst Department: Judaic & Near Eastern Studies Union: MSP Categories: Faculty\, College of Humanities & Fine Arts About UMass Amherst UMass Amherst\, the Commonwealth's flagship campus\, is a nationally ranked public research university offering a full range of undergraduate\, graduate and professional degrees. The University … Continue reading Position opening: Associate/Full Professor – Islamic/Middle Eastern Studies\, UMass Amherst\, November 15\, 2024
URL:https://islamiclaw.blog/event/position-opening-associate-full-professor-islamic-middle-eastern-studies-umass-amherst-november-15-2024/
CATEGORIES:Applications,Due dates,Opportunities
END:VEVENT
END:VCALENDAR