BEGIN:VCALENDAR
VERSION:2.0
PRODID:-//Islamic Law Blog - ECPv6.7.0//NONSGML v1.0//EN
CALSCALE:GREGORIAN
METHOD:PUBLISH
X-ORIGINAL-URL:https://islamiclaw.blog
X-WR-CALDESC:Events for Islamic Law Blog
REFRESH-INTERVAL;VALUE=DURATION:PT1H
X-Robots-Tag:noindex
X-PUBLISHED-TTL:PT1H
BEGIN:VTIMEZONE
TZID:America/New_York
BEGIN:DAYLIGHT
TZOFFSETFROM:-0500
TZOFFSETTO:-0400
TZNAME:EDT
DTSTART:20210314T070000
END:DAYLIGHT
BEGIN:STANDARD
TZOFFSETFROM:-0400
TZOFFSETTO:-0500
TZNAME:EST
DTSTART:20211107T060000
END:STANDARD
END:VTIMEZONE
BEGIN:VEVENT
DTSTART;VALUE=DATE:20210601
DTEND;VALUE=DATE:20210821
DTSTAMP:20260425T192453
CREATED:20210224T173155Z
LAST-MODIFIED:20210224T173155Z
UID:10012403-1622505600-1629503999@islamiclaw.blog
SUMMARY:Digital Islamicate Paleography and Codicology Summer School\, The Roshan Institute for Persian Studies at the University of Maryland\, June 1-August 20\, 2021
DESCRIPTION:From the organizers: As part of the Association for Gulf and Arabian Peninsula Studies' (AGAPS) commitment to support graduate students\, we are pleased to open applications for this year’s graduate travel fund award. If you are an MA or PhD student working on the region and your paper is accepted to the 2026 MESA conference\, … Continue reading Award: Student Travel Award\, Association for Gulf and Arabian Peninsula Studies\, September 1\, 2026
URL:https://islamiclaw.blog/event/digital-islamicate-paleography-and-codicology-summer-school-the-roshan-institute-for-persian-studies-at-the-university-of-maryland-june-1-august-20-2021/
CATEGORIES:Applications,courses,digital humanities,Programs
END:VEVENT
BEGIN:VEVENT
DTSTART;VALUE=DATE:20210607
DTEND;VALUE=DATE:20210822
DTSTAMP:20260425T192453
CREATED:20210423T140152Z
LAST-MODIFIED:20210423T140152Z
UID:10012426-1623024000-1629590399@islamiclaw.blog
SUMMARY:Mejlis Institute Summer Beginner/Intermediate Persian June 7–August 21\, 2021
DESCRIPTION:From the organizers: As part of the Association for Gulf and Arabian Peninsula Studies' (AGAPS) commitment to support graduate students\, we are pleased to open applications for this year’s graduate travel fund award. If you are an MA or PhD student working on the region and your paper is accepted to the 2026 MESA conference\, … Continue reading Award: Student Travel Award\, Association for Gulf and Arabian Peninsula Studies\, September 1\, 2026
URL:https://islamiclaw.blog/event/mejlis-institute-summer-beginner-intermediate-persian-june-7-august-21-2021/
CATEGORIES:Applications,conferences and workshops,courses,Due dates,lectures and talks,Opportunities
END:VEVENT
BEGIN:VEVENT
DTSTART;VALUE=DATE:20210614
DTEND;VALUE=DATE:20210808
DTSTAMP:20260425T192453
CREATED:20210419T180139Z
LAST-MODIFIED:20210419T180139Z
UID:10012416-1623628800-1628380799@islamiclaw.blog
SUMMARY:Summer School: Summer Institute for Languages of the Muslim World\, University of Illinois at Urbana-Champaign\, June 14 - August 7\, 2021
DESCRIPTION:From the organizers: As part of the Association for Gulf and Arabian Peninsula Studies' (AGAPS) commitment to support graduate students\, we are pleased to open applications for this year’s graduate travel fund award. If you are an MA or PhD student working on the region and your paper is accepted to the 2026 MESA conference\, … Continue reading Award: Student Travel Award\, Association for Gulf and Arabian Peninsula Studies\, September 1\, 2026
URL:https://islamiclaw.blog/event/summer-school-summer-institute-for-languages-of-the-muslim-world-university-of-illinois-at-urbana-champaign-june-14-august-7-2021/
CATEGORIES:Applications,conferences and workshops,courses,Due dates,Opportunities
END:VEVENT
BEGIN:VEVENT
DTSTART;VALUE=DATE:20210704
DTEND;VALUE=DATE:20210829
DTSTAMP:20260425T192453
CREATED:20210212T081104Z
LAST-MODIFIED:20210212T081104Z
UID:10012390-1625356800-1630195199@islamiclaw.blog
SUMMARY:Persian Language Summer School 2021 (3-8 weeks)\, Yerevan\, Armenia
DESCRIPTION:From the organizers: As part of the Association for Gulf and Arabian Peninsula Studies' (AGAPS) commitment to support graduate students\, we are pleased to open applications for this year’s graduate travel fund award. If you are an MA or PhD student working on the region and your paper is accepted to the 2026 MESA conference\, … Continue reading Award: Student Travel Award\, Association for Gulf and Arabian Peninsula Studies\, September 1\, 2026
URL:https://islamiclaw.blog/event/persian-language-summer-school-2021-3-8-weeks-yerevan-armenia/
CATEGORIES:Applications,courses,Due dates,Opportunities
END:VEVENT
BEGIN:VEVENT
DTSTART;VALUE=DATE:20210705
DTEND;VALUE=DATE:20210814
DTSTAMP:20260425T192453
CREATED:20210423T135752Z
LAST-MODIFIED:20210423T135820Z
UID:10012425-1625443200-1628899199@islamiclaw.blog
SUMMARY:Mejlis Institute Intensive Summer Program 2021: Understanding Modern Iran through Film and Literature July 5–August 13\, 2021
DESCRIPTION:From the organizers: As part of the Association for Gulf and Arabian Peninsula Studies' (AGAPS) commitment to support graduate students\, we are pleased to open applications for this year’s graduate travel fund award. If you are an MA or PhD student working on the region and your paper is accepted to the 2026 MESA conference\, … Continue reading Award: Student Travel Award\, Association for Gulf and Arabian Peninsula Studies\, September 1\, 2026
URL:https://islamiclaw.blog/event/mejlis-institute-intensive-summer-program-2021-understanding-modern-iran-through-film-and-literature-july-5-august-13-2021/
CATEGORIES:Applications,courses,Due dates,lectures and talks,Opportunities
END:VEVENT
END:VCALENDAR