BEGIN:VCALENDAR
VERSION:2.0
PRODID:-//Islamic Law Blog - ECPv6.7.0//NONSGML v1.0//EN
CALSCALE:GREGORIAN
METHOD:PUBLISH
X-WR-CALNAME:Islamic Law Blog
X-ORIGINAL-URL:https://islamiclaw.blog
X-WR-CALDESC:Events for Islamic Law Blog
REFRESH-INTERVAL;VALUE=DURATION:PT1H
X-Robots-Tag:noindex
X-PUBLISHED-TTL:PT1H
BEGIN:VTIMEZONE
TZID:America/New_York
BEGIN:DAYLIGHT
TZOFFSETFROM:-0500
TZOFFSETTO:-0400
TZNAME:EDT
DTSTART:20170312T070000
END:DAYLIGHT
BEGIN:STANDARD
TZOFFSETFROM:-0400
TZOFFSETTO:-0500
TZNAME:EST
DTSTART:20171105T060000
END:STANDARD
END:VTIMEZONE
BEGIN:VEVENT
DTSTART;TZID=America/New_York:20171015T080000
DTEND;TZID=America/New_York:20171015T170000
DTSTAMP:20260426T001429
CREATED:20170925T173423Z
LAST-MODIFIED:20170925T173423Z
UID:10011976-1508054400-1508086800@islamiclaw.blog
SUMMARY:Due: Assistant Professor - Study of Muslims/Islam in North America (tenure-track)\, University of Minnesota
DESCRIPTION:The College of Liberal Arts at the University of Minnesota-Twin Cities and the Religious Studies Program invite applications for a full-time\, tenure-track faculty position at the assistant professor level in the study of Muslims/Islam in North America to begin fall semester 2018 (08/27/2018). A Ph.D. in Religious Studies or other related field is required by the start date.\nSuccessful candidates will be expected to demonstrate a strong foundation in the academic study of religion and in their specific research area along with an ability to work across disciplinary boundaries. \nSuccessful candidates must also show evidence or potential for a strong research profile and excellence in teaching.\nCandidates will be evaluated according to a) overall quality of their academic preparation and scholarly work\, b) relevance of their scholarly research to the department’s academic priorities and fields of inquiry\, c) evidence of commitment to teaching and skills as a teacher\, and d) strength of recommendations. \nAbout the Job\nThis will be a joint appointment between the interdepartmental Religious Studies Program and the tenure-granting department within the College of Liberal Arts that best fits the candidate’s scholarship and research field. As a tenure-track faculty member\, responsibilities will include executing an innovative and consistent research and publication agenda; teaching core courses in the Religious Studies undergraduate and graduate curricula (Introduction to the Study of Religion in America\, Introduction to Religions of the World\, Theory and Methods in the Study of Religion)\, and in the area/department of research specialty; supervising undergraduate and graduate research in Religious Studies and the joint department; creating new avenues for cross-disciplinary research at the university; and service to the Religious Studies Program\, the home department\, the College and the University. Additional responsibilities in the tenure department will be determined. The regular teaching load is 2/2. \nThe Workload Principles and Guidelines for Regular Faculty in the College of Liberal Arts are available at: https://sites.google.com/a/umn.edu/cla-intranet/ofaa/resources/workload-principles–guidelines \nHow to Apply\nApplications must be submitted online at https://humanresources.umn.edu/jobs to be considered for this position. Click the “External Faculty and Staff Applicants” button and search Job Opening ID #319765. You will have the opportunity to complete an online application for the position and attach your application letter (cover letter) and curriculum vitae (resume). Additional documents\, including a writing sample\, must be attached after application by accessing your “My Activities” page and uploading documents there. Three letters of reference should be sent separately by their authors to rels@umn.edu. \nA complete application includes the following materials: (1) a letter of application\, (2) curriculum vitae\, (3) sample of scholarly work not more than 40 pages\,(4) Three letters of reference (sent to rels@umn.edu). Candidates who make the initial cut will be asked for a philosophy of teaching statement\, sample syllabi\, and/or course evaluations.\nApplication deadline: October 15\, 2017 \nInquiries should be directed to search committee chair\, Jeanne Kilde\, jkilde@umn.edu.\nTo request an accommodation during the application process\, please e-mail employ@umn.edu or call (612) 624-UOHR (8647).
URL:https://islamiclaw.blog/event/due-assistant-professor-study-of-muslimsislam-in-north-america-tenure-track-university-of-minnesota/
LOCATION:University of Minnesota-Twin Cities
END:VEVENT
END:VCALENDAR