BEGIN:VCALENDAR
VERSION:2.0
PRODID:-//Islamic Law Blog - ECPv6.7.0//NONSGML v1.0//EN
CALSCALE:GREGORIAN
METHOD:PUBLISH
X-ORIGINAL-URL:https://islamiclaw.blog
X-WR-CALDESC:Events for Islamic Law Blog
REFRESH-INTERVAL;VALUE=DURATION:PT1H
X-Robots-Tag:noindex
X-PUBLISHED-TTL:PT1H
BEGIN:VTIMEZONE
TZID:America/New_York
BEGIN:DAYLIGHT
TZOFFSETFROM:-0500
TZOFFSETTO:-0400
TZNAME:EDT
DTSTART:20200308T070000
END:DAYLIGHT
BEGIN:STANDARD
TZOFFSETFROM:-0400
TZOFFSETTO:-0500
TZNAME:EST
DTSTART:20201101T060000
END:STANDARD
END:VTIMEZONE
BEGIN:VEVENT
DTSTART;TZID=America/New_York:20200305T163000
DTEND;TZID=America/New_York:20200305T180000
DTSTAMP:20260422T220449
CREATED:20200212T202512Z
LAST-MODIFIED:20200222T204345Z
UID:10012274-1583425800-1583431200@islamiclaw.blog
SUMMARY:Seminar: "The Archive Question: The Politics of History in Saudi Arabia?" Rosie Bsheer\, Assistant Professor of History\, Harvard University
DESCRIPTION:SEMINAR: THE ARCHIVE QUESTION: THE POLITICS OF HISTORY IN SAUDI ARABIA? Mar 5 | 4:30 PM – 6:00 PM | CGIS Knafel 262\, 1737 Cambridge St Rosie Bsheer\, Assistant Professor of History\, Harvard University \nThis event is part of the WCFIA/CMES Middle East Seminar. Co-sponsored by: the Weatherhead Center for International Affairs and the Center for Middle Eastern Studies.
URL:https://islamiclaw.blog/event/seminar-the-archive-question-the-politics-of-history-in-saudi-arabia-rosie-bsheer-assistant-professor-of-history-harvard-university/
LOCATION:CGIS Knafel 262\, 1737 Cambridge St
CATEGORIES:events in Islamic legal studies,lectures and talks,PIL events
END:VEVENT
END:VCALENDAR