BEGIN:VCALENDAR
VERSION:2.0
PRODID:-//Islamic Law Blog - ECPv6.7.0//NONSGML v1.0//EN
CALSCALE:GREGORIAN
METHOD:PUBLISH
X-ORIGINAL-URL:https://islamiclaw.blog
X-WR-CALDESC:Events for Islamic Law Blog
REFRESH-INTERVAL;VALUE=DURATION:PT1H
X-Robots-Tag:noindex
X-PUBLISHED-TTL:PT1H
BEGIN:VTIMEZONE
TZID:America/New_York
BEGIN:DAYLIGHT
TZOFFSETFROM:-0500
TZOFFSETTO:-0400
TZNAME:EDT
DTSTART:20200308T070000
END:DAYLIGHT
BEGIN:STANDARD
TZOFFSETFROM:-0400
TZOFFSETTO:-0500
TZNAME:EST
DTSTART:20201101T060000
END:STANDARD
END:VTIMEZONE
BEGIN:VEVENT
DTSTART;VALUE=DATE:20200308
DTEND;VALUE=DATE:20200309
DTSTAMP:20260425T153353
CREATED:20200119T163135Z
LAST-MODIFIED:20200124T171058Z
UID:10012256-1583625600-1583711999@islamiclaw.blog
SUMMARY:Call for Papers: Oxford Symposium on Religious Studies\, Spring Session (26 –27 Mar | Oxford\, UK)
DESCRIPTION:The Oxford Symposium on Religious Studies is a forum for discourse and presentation of papers by scholars who have a particular interest in the study of religion. Canon Brian Mountford MBE\, former Vicar of St Mary’s Church and Fellow of St Hilda’s College at the University of Oxford\, will host the 2020 sessions. \nYou are invited to make a presentation and lead a discussion on an aspect of religious studies\, or you may wish to participate as a panel member or as an observer. Your disquisition must adhere to an abstract of about 300 words approved by the Programme Committee of the Symposium. \nYou are also encouraged to submit a paper\, in keeping with your abstract\, which may be published in an appropriate journal or book of conference proceedings. All papers presented for publication or inclusion in books or sponsored journals will be subject to peer review by external readers. \n\nAttendees may participate as observers\, panel members and presenters of papers\, reports\, and commentaries concerning aspects relevant to the theory and practice of topics in religion and ethics. (Poster presentations are also welcome.)\nWe accept abstracts on a rolling basis and return notifications within a week of submission.\nPresenters are allocated 20 minutes to present\, followed by a ten-minute question session.\nOptional: After the conclusion of the symposium\, participants may submit papers to be peer-reviewed by external readers for possible inclusion in Symposium Books or sponsored academic journals.\nConference Oxford has hundreds of affordable bedrooms in Oxford colleges available\, offering splendid views of college quadrangles. See our website for lodging\, travel and other information.\n\nSPRING Session 26 –27 March 2020 at The Queen’s College\, Oxford University\n\nAbstract submission  – 8 March\nEarly registration – 20 January\nRegular registration – 10 March\n\n\nPlease direct inquiries to info@oxfordsymposiumonreligiousstudies.com
URL:https://islamiclaw.blog/event/call-for-papers-oxford-symposium-on-religious-studies-spring-session-26-27-mar-oxford-uk/
LOCATION:The Queen’s College\, Oxford University
CATEGORIES:Call for papers
END:VEVENT
END:VCALENDAR